BEGIN:VCALENDAR
VERSION:2.0
PRODID:-//Events | FID-Recht//NONSGML Events//EN
CALSCALE:GREGORIAN
X-ORIGINAL-URL:https://events.intrecht.de/termine/
X-WR-CALDESC:Events | FID-Recht - Events
BEGIN:VEVENT
UID:20200706T0859Z-1594025987.8412-EO-1066-1@172.16.200.141
STATUS:CONFIRMED
DTSTAMP:20260422T213139Z
CREATED:20200624T130322Z
LAST-MODIFIED:20200624T130322Z
DTSTART;VALUE=DATE:20210311
DTEND;VALUE=DATE:20210314
SUMMARY: Zwischen Teilhabe\, Revolte und Marginalisierung? Die Stände der ö
 sterreichischen Länder in der Neuzeit (1500-1848/49) (Konferenz)
DESCRIPTION: 11.-12.3.2021\, Innsbruck https://www.hsozkult.de/event/id/ter
 mine-43053  
X-ALT-DESC;FMTTYPE=text/html: <p>11.-12.3.2021\, Innsbruck</p><p><a href="h
 ttps://www.hsozkult.de/event/id/termine-43053">https://www.hsozkult.de/even
 t/id/termine-43053</a></p><p> </p><p>[av_button label='iCal-Export' link='.
 /feed/eo-events' link_target='' size='small' position='center' label_displa
 y='' title_attr='' icon_select='yes' icon='ue85b' font='entypo-fontello' co
 lor='custom' custom_bg='#b5123e' custom_font='#ffffff' av_uid='' id='' cust
 om_class='' admin_preview_bg='']</p>
CATEGORIES:Recht interdisziplinär
LOCATION:Ausland
GEO:0.000000;0.000000
ORGANIZER;CN="ViFa-Recht":MAILTO:vifa-recht@sbb.spk-berlin.de
URL;VALUE=URI:https://events.intrecht.de/termine/termin/zwischen-teilhabe-r
 evolte-und-marginalisierung-die-staende-der-oesterreichischen-laender-in-de
 r-neuzeit-1500-1848-49-konferenz/
END:VEVENT
BEGIN:VTIMEZONE
TZID:Europe/Berlin
BEGIN:STANDARD
TZOFFSETFROM:+0200
TZOFFSETTO:+0100
DTSTART:20201025T010000
TZNAME:CET
END:STANDARD
END:VTIMEZONE
END:VCALENDAR
