BEGIN:VCALENDAR
VERSION:2.0
PRODID:-//Events | FID-Recht//NONSGML Events//EN
CALSCALE:GREGORIAN
X-ORIGINAL-URL:https://events.intrecht.de/termine/
X-WR-CALDESC:Events | FID-Recht - Events
BEGIN:VEVENT
UID:20200603T1418Z-1591193923.3362-EO-587-1@172.16.200.141
STATUS:CONFIRMED
DTSTAMP:20260422T014034Z
CREATED:20230821T132507Z
LAST-MODIFIED:20230821T132507Z
DTSTART;VALUE=DATE:20240219
DTEND;VALUE=DATE:20240224
SUMMARY: Zwischen Rezeption und Remake – Das Mittelalter im 19. Jahrhundert
  (Interdisziplinäre Tagung)
DESCRIPTION: 19.-23.2.2024 / Freiburg im Breisgau (Frist für Einreichungen:
  15.10.2023) https://www.adwmainz.de/kalender/eintrag/springschool-zwischen
 -rezeption-und-remake-das-mittelalter-im-19-jahrhundert.html
X-ALT-DESC;FMTTYPE=text/html: <p>19.-23.2.2024 / Freiburg im Breisgau (Fris
 t für Einreichungen: 15.10.2023)</p><p><a href="https://www.adwmainz.de/kal
 ender/eintrag/springschool-zwischen-rezeption-und-remake-das-mittelalter-im
 -19-jahrhundert.html">https://www.adwmainz.de/kalender/eintrag/springschool
 -zwischen-rezeption-und-remake-das-mittelalter-im-19-jahrhundert.html</a></
 p><p>[av_button label='iCal-Export' link='./feed/eo-events' link_target='' 
 size='small' position='center' label_display='' title_attr='' icon_select='
 yes' icon='ue85b' font='entypo-fontello' color='custom' custom_bg='#b5123e'
  custom_font='#ffffff' av_uid='' id='' custom_class='' admin_preview_bg='']
 </p>
CATEGORIES:Recht interdisziplinär
LOCATION:Inland
GEO:0.000000;0.000000
ORGANIZER;CN="ViFa-Recht":MAILTO:vifa-recht@sbb.spk-berlin.de
URL;VALUE=URI:https://events.intrecht.de/termine/termin/zwischen-rezeption-
 und-remake-das-mittelalter-im-19-jahrhundert-interdisziplinaere-tagung/
END:VEVENT
BEGIN:VTIMEZONE
TZID:Europe/Berlin
BEGIN:STANDARD
TZOFFSETFROM:+0200
TZOFFSETTO:+0100
DTSTART:20231029T010000
TZNAME:CET
END:STANDARD
END:VTIMEZONE
END:VCALENDAR
