BEGIN:VCALENDAR
VERSION:2.0
PRODID:-//Events | FID-Recht//NONSGML Events//EN
CALSCALE:GREGORIAN
X-ORIGINAL-URL:https://events.intrecht.de/termine/
X-WR-CALDESC:Events | FID-Recht - Events
BEGIN:VEVENT
UID:20200603T1418Z-1591193923.3362-EO-587-1@172.16.200.141
STATUS:CONFIRMED
DTSTAMP:20260425T151225Z
CREATED:20230706T080855Z
LAST-MODIFIED:20230706T080855Z
DTSTART;VALUE=DATE:20230829
DTEND;VALUE=DATE:20230830
SUMMARY: Zwischen Innovation und Sicherheit – Digitales Arbeiten im Rechtsw
 esen des 21. Jahrhunderts (Tagung)
DESCRIPTION: 29.8.2023 / Bern https://rechtsinformatik.ch/tagungsprogramm/
X-ALT-DESC;FMTTYPE=text/html: <p>29.8.2023 / Bern</p><p><a href="https://re
 chtsinformatik.ch/tagungsprogramm/">https://rechtsinformatik.ch/tagungsprog
 ramm/</a></p><p>[av_button label='iCal-Export' link='./feed/eo-events' link
 _target='' size='small' position='center' label_display='' title_attr='' ic
 on_select='yes' icon='ue85b' font='entypo-fontello' color='custom' custom_b
 g='#b5123e' custom_font='#ffffff' av_uid='' id='' custom_class='' admin_pre
 view_bg='']</p>
CATEGORIES:Recht interdisziplinär
LOCATION:Ausland
GEO:0.000000;0.000000
ORGANIZER;CN="ViFa-Recht":MAILTO:vifa-recht@sbb.spk-berlin.de
URL;VALUE=URI:https://events.intrecht.de/termine/termin/zwischen-innovation
 -und-sicherheit-digitales-arbeiten-im-rechtswesen-des-21-jahrhunderts-tagun
 g/
END:VEVENT
BEGIN:VTIMEZONE
TZID:Europe/Berlin
BEGIN:DAYLIGHT
TZOFFSETFROM:+0100
TZOFFSETTO:+0200
DTSTART:20230326T010000
TZNAME:CEST
END:DAYLIGHT
END:VTIMEZONE
END:VCALENDAR
