BEGIN:VCALENDAR
VERSION:2.0
PRODID:-//Events | FID-Recht//NONSGML Events//EN
CALSCALE:GREGORIAN
X-ORIGINAL-URL:https://events.intrecht.de/termine/
X-WR-CALDESC:Events | FID-Recht - Events
BEGIN:VEVENT
UID:20230315T0644Z-1678862664.1275-EO-8052-1@172.16.200.151
STATUS:CONFIRMED
DTSTAMP:20260423T084727Z
CREATED:20230118T140624Z
LAST-MODIFIED:20230118T140624Z
DTSTART;VALUE=DATE:20230125
DTEND;VALUE=DATE:20230126
SUMMARY: Zwischen drohendem Klimanotstand und aktueller Rechtsverletzung – 
 Bestrafung der Letzten Generation? (Debattenabend)
DESCRIPTION: 25.1.2023 / Online und Hamburg https://www.law-school.de/termi
 n/debattenabend-zu-klimaktivismus  
X-ALT-DESC;FMTTYPE=text/html: <p>25.1.2023 / Online und Hamburg</p><p><a hr
 ef="https://www.law-school.de/termin/debattenabend-zu-klimaktivismus">https
 ://www.law-school.de/termin/debattenabend-zu-klimaktivismus</a></p><p> </p>
 <p>[av_button label='iCal-Export' link='./feed/eo-events' link_target='' si
 ze='small' position='center' label_display='' title_attr='' icon_select='ye
 s' icon='ue85b' font='entypo-fontello' color='custom' custom_bg='#b5123e' c
 ustom_font='#ffffff' av_uid='' id='' custom_class='' admin_preview_bg='']</
 p>
CATEGORIES:Recht interdisziplinär
LOCATION:Online
GEO:0.000000;0.000000
ORGANIZER;CN="ViFa-Recht":MAILTO:vifa-recht@sbb.spk-berlin.de
URL;VALUE=URI:https://events.intrecht.de/termine/termin/zwischen-drohendem-
 klimanotstand-und-aktueller-rechtsverletzung-bestrafung-der-letzten-generat
 ion-debattenabend/
END:VEVENT
BEGIN:VTIMEZONE
TZID:Europe/Berlin
BEGIN:STANDARD
TZOFFSETFROM:+0200
TZOFFSETTO:+0100
DTSTART:20221030T010000
TZNAME:CET
END:STANDARD
END:VTIMEZONE
END:VCALENDAR
