BEGIN:VCALENDAR
VERSION:2.0
PRODID:-//Events | FID-Recht//NONSGML Events//EN
CALSCALE:GREGORIAN
X-ORIGINAL-URL:https://events.intrecht.de/termine/
X-WR-CALDESC:Events | FID-Recht - Events
BEGIN:VEVENT
UID:20200603T1418Z-1591193923.3362-EO-587-1@172.16.200.141
STATUS:CONFIRMED
DTSTAMP:20260422T211456Z
CREATED:20240809T074009Z
LAST-MODIFIED:20240809T074009Z
DTSTART;VALUE=DATE:20241010
DTEND;VALUE=DATE:20241011
SUMMARY: Zwischen Blackbox und Deepfakes (Bayreuther IT-Strafrechtstag)
DESCRIPTION: 10.10.2024 / Bayreuth (Einreichungsfrist: 26.9.2024) https://s
 trafrechtskalender.de/event/bayreuther-it-strafrechtstag-zwischen-blackbox-
 und-deepfakes-ki-in-der-strafverfolgung/
X-ALT-DESC;FMTTYPE=text/html: <p>10.10.2024 / Bayreuth <strong>(Einreichung
 sfrist: 26.9.2024)</strong></p><p><a href="https://strafrechtskalender.de/e
 vent/bayreuther-it-strafrechtstag-zwischen-blackbox-und-deepfakes-ki-in-der
 -strafverfolgung/">https://strafrechtskalender.de/event/bayreuther-it-straf
 rechtstag-zwischen-blackbox-und-deepfakes-ki-in-der-strafverfolgung/</a></p
 ><p>[av_button label='iCal-Export' link='./feed/eo-events' link_target='' s
 ize='small' position='center' label_display='' title_attr='' icon_select='y
 es' icon='ue85b' font='entypo-fontello' color='custom' custom_bg='#b5123e' 
 custom_font='#ffffff' av_uid='' id='' custom_class='' admin_preview_bg='']<
 /p>
CATEGORIES:Strafrecht
LOCATION:Inland
GEO:0.000000;0.000000
ORGANIZER;CN="ViFa-Recht":MAILTO:vifa-recht@sbb.spk-berlin.de
URL;VALUE=URI:https://events.intrecht.de/termine/termin/zwischen-blackbox-u
 nd-deepfakes-bayreuther-it-strafrechtstag/
END:VEVENT
BEGIN:VTIMEZONE
TZID:Europe/Berlin
BEGIN:DAYLIGHT
TZOFFSETFROM:+0100
TZOFFSETTO:+0200
DTSTART:20240331T010000
TZNAME:CEST
END:DAYLIGHT
END:VTIMEZONE
END:VCALENDAR
