BEGIN:VCALENDAR
VERSION:2.0
PRODID:-//Events | FID-Recht//NONSGML Events//EN
CALSCALE:GREGORIAN
X-ORIGINAL-URL:https://events.intrecht.de/termine/
X-WR-CALDESC:Events | FID-Recht - Events
BEGIN:VEVENT
UID:20200603T1418Z-1591193923.3362-EO-587-1@172.16.200.141
STATUS:CONFIRMED
DTSTAMP:20260423T003342Z
CREATED:20250827T103458Z
LAST-MODIFIED:20250827T103458Z
DTSTART;VALUE=DATE:20251120
DTEND;VALUE=DATE:20251122
SUMMARY: Zur Aufklärung der Demokratietheorie heute: Anschlüsse an Ingeborg
  Maus (Tagung)
DESCRIPTION: 20.-21.11.2025 / Marburg https://www.theorieblog.de/wp-content
 /uploads/2025/08/Plakat_Tagung_Maus-final.pdf
X-ALT-DESC;FMTTYPE=text/html: <p>20.-21.11.2025 / Marburg</p><p><a href="ht
 tps://www.theorieblog.de/wp-content/uploads/2025/08/Plakat_Tagung_Maus-fina
 l.pdf">https://www.theorieblog.de/wp-content/uploads/2025/08/Plakat_Tagung_
 Maus-final.pdf</a></p><p>[av_button label='iCal-Export' link='./feed/eo-eve
 nts' link_target='' size='small' position='center' label_display='' title_a
 ttr='' icon_select='yes' icon='ue85b' font='entypo-fontello' color='custom'
  custom_bg='#b5123e' custom_font='#ffffff' av_uid='' id='' custom_class='' 
 admin_preview_bg='']</p>
CATEGORIES:Recht interdisziplinär
LOCATION:Inland
GEO:0.000000;0.000000
ORGANIZER;CN="ViFa-Recht":MAILTO:vifa-recht@sbb.spk-berlin.de
URL;VALUE=URI:https://events.intrecht.de/termine/termin/zur-aufklaerung-der
 -demokratietheorie-heute-anschluesse-an-ingeborg-maus-tagung/
END:VEVENT
BEGIN:VTIMEZONE
TZID:Europe/Berlin
BEGIN:STANDARD
TZOFFSETFROM:+0200
TZOFFSETTO:+0100
DTSTART:20251026T010000
TZNAME:CET
END:STANDARD
END:VTIMEZONE
END:VCALENDAR
