BEGIN:VCALENDAR
VERSION:2.0
PRODID:-//Events | FID-Recht//NONSGML Events//EN
CALSCALE:GREGORIAN
X-ORIGINAL-URL:https://events.intrecht.de/termine/
X-WR-CALDESC:Events | FID-Recht - Events
BEGIN:VEVENT
UID:20201221T1151Z-1608551479.2867-EO-2955-1@172.16.200.141
STATUS:CONFIRMED
DTSTAMP:20260421T133514Z
CREATED:20201218T114443Z
LAST-MODIFIED:20210318T140255Z
DTSTART;VALUE=DATE:20210323
DTEND;VALUE=DATE:20210325
SUMMARY: Zum Verhältnis zwischen den Hermeneutiken des Rechts und der Liter
 atur (Online-Workshop)
DESCRIPTION: 23.-24.3.2021\, Online (Frist für Einreichungen: 24.1.2021) ht
 tps://networks.h-net.org/node/79435/discussions/6982459/cfp-zum-verh%C3%A4l
 tnis-zwischen-den-hermeneutiken-des-rechts-und-der https://www.uni-muenster
 .de/Philologie/aktuelles/callsforpapers/2020_cfp_verhaeltnis_hermeneutiken_
 recht_und_literatur.html https://wwuindico.uni-muenster.de/event/440/
X-ALT-DESC;FMTTYPE=text/html: <p>23.-24.3.2021\, Online (Frist für Einreich
 ungen: 24.1.2021)</p><p><a href="https://networks.h-net.org/node/79435/disc
 ussions/6982459/cfp-zum-verh%C3%A4ltnis-zwischen-den-hermeneutiken-des-rech
 ts-und-der">https://networks.h-net.org/node/79435/discussions/6982459/cfp-z
 um-verh%C3%A4ltnis-zwischen-den-hermeneutiken-des-rechts-und-der</a></p><p>
 <a href="https://www.uni-muenster.de/Philologie/aktuelles/callsforpapers/20
 20_cfp_verhaeltnis_hermeneutiken_recht_und_literatur.html">https://www.uni-
 muenster.de/Philologie/aktuelles/callsforpapers/2020_cfp_verhaeltnis_hermen
 eutiken_recht_und_literatur.html</a></p><p><a href="https://wwuindico.uni-m
 uenster.de/event/440/">https://wwuindico.uni-muenster.de/event/440/</a></p>
 <p>[av_button label='iCal-Export' link='./feed/eo-events' link_target='' si
 ze='small' position='center' label_display='' title_attr='' icon_select='ye
 s' icon='ue85b' font='entypo-fontello' color='custom' custom_bg='#b5123e' c
 ustom_font='#ffffff' av_uid='' id='' custom_class='' admin_preview_bg='']</
 p>
CATEGORIES:Recht interdisziplinär
LOCATION:Online
GEO:0.000000;0.000000
ORGANIZER;CN="ViFa-Recht":MAILTO:vifa-recht@sbb.spk-berlin.de
URL;VALUE=URI:https://events.intrecht.de/termine/termin/zum-verhaeltnis-zwi
 schen-den-hermeneutiken-des-rechts-und-der-literatur-online-workshop-2__tra
 shed/
END:VEVENT
BEGIN:VTIMEZONE
TZID:Europe/Berlin
BEGIN:STANDARD
TZOFFSETFROM:+0200
TZOFFSETTO:+0100
DTSTART:20201025T010000
TZNAME:CET
END:STANDARD
END:VTIMEZONE
END:VCALENDAR
