BEGIN:VCALENDAR
VERSION:2.0
PRODID:-//Events | FID-Recht//NONSGML Events//EN
CALSCALE:GREGORIAN
X-ORIGINAL-URL:https://events.intrecht.de/termine/
X-WR-CALDESC:Events | FID-Recht - Events
BEGIN:VEVENT
UID:20210124T1323Z-1611494637.2884-EO-2992-1@172.16.200.141
STATUS:CONFIRMED
DTSTAMP:20260425T164859Z
CREATED:20210122T174136Z
LAST-MODIFIED:20210129T142136Z
DTSTART;VALUE=DATE:20210124
DTEND;VALUE=DATE:20210125
SUMMARY: Zum Verhältnis zwischen den Hermeneutiken des Rechts und der Liter
 atur (Online-Workshop) (CfP)
DESCRIPTION: 23.-24.3.2021\, Online (Frist für Einreichungen: 24.1.2021) ht
 tps://www.uni-muenster.de/Philologie/aktuelles/callsforpapers/2020_cfp_verh
 aeltnis_hermeneutiken_recht_und_literatur.html  
X-ALT-DESC;FMTTYPE=text/html: <p>23.-24.3.2021\, Online (Frist für Einreich
 ungen: 24.1.2021)</p><p><a href="https://www.uni-muenster.de/Philologie/akt
 uelles/callsforpapers/2020_cfp_verhaeltnis_hermeneutiken_recht_und_literatu
 r.html">https://www.uni-muenster.de/Philologie/aktuelles/callsforpapers/202
 0_cfp_verhaeltnis_hermeneutiken_recht_und_literatur.html</a></p><p> </p><p>
 [av_button label='iCal-Export' link='./feed/eo-events' link_target='' size=
 'small' position='center' label_display='' title_attr='' icon_select='yes' 
 icon='ue85b' font='entypo-fontello' color='custom' custom_bg='#b5123e' cust
 om_font='#ffffff' av_uid='' id='' custom_class='' admin_preview_bg='']</p>
CATEGORIES:Recht interdisziplinär
LOCATION:Online
GEO:0.000000;0.000000
ORGANIZER;CN="ViFa-Recht":MAILTO:vifa-recht@sbb.spk-berlin.de
URL;VALUE=URI:https://events.intrecht.de/termine/termin/zum-verhaeltnis-zwi
 schen-den-hermeneutiken-des-rechts-und-der-literatur-online-tagung-cfp/
END:VEVENT
BEGIN:VTIMEZONE
TZID:Europe/Berlin
BEGIN:STANDARD
TZOFFSETFROM:+0200
TZOFFSETTO:+0100
DTSTART:20201025T010000
TZNAME:CET
END:STANDARD
END:VTIMEZONE
END:VCALENDAR
