BEGIN:VCALENDAR
VERSION:2.0
PRODID:-//Events | FID-Recht//NONSGML Events//EN
CALSCALE:GREGORIAN
X-ORIGINAL-URL:https://events.intrecht.de/termine/
X-WR-CALDESC:Events | FID-Recht - Events
BEGIN:VEVENT
UID:20200603T1418Z-1591193923.3362-EO-587-1@172.16.200.141
STATUS:CONFIRMED
DTSTAMP:20260422T213014Z
CREATED:20231219T155302Z
LAST-MODIFIED:20231219T155302Z
DTSTART;VALUE=DATE:20240813
DTEND;VALUE=DATE:20240816
SUMMARY: Zukunftsverfassungsrecht (64. Junge Tagung Öffentliches Recht)
DESCRIPTION: 13.-15.8.2024 / Leipzig (Einreichungsfrist: 29.2.2024) https:/
 /www.jura.uni-leipzig.de/64-junge-tagung-oeffentliches-recht#c816030
X-ALT-DESC;FMTTYPE=text/html: <p>13.-15.8.2024 / Leipzig <strong>(Einreichu
 ngsfrist: 29.2.2024)</strong></p><p><a href="https://www.jura.uni-leipzig.d
 e/64-junge-tagung-oeffentliches-recht#c816030">https://www.jura.uni-leipzig
 .de/64-junge-tagung-oeffentliches-recht#c816030</a></p><p>[av_button label=
 'iCal-Export' link='./feed/eo-events' link_target='' size='small' position=
 'center' label_display='' title_attr='' icon_select='yes' icon='ue85b' font
 ='entypo-fontello' color='custom' custom_bg='#b5123e' custom_font='#ffffff'
  av_uid='' id='' custom_class='' admin_preview_bg='']</p>
CATEGORIES:Öffentliches Recht
LOCATION:Inland
GEO:0.000000;0.000000
ORGANIZER;CN="ViFa-Recht":MAILTO:vifa-recht@sbb.spk-berlin.de
URL;VALUE=URI:https://events.intrecht.de/termine/termin/zukunftsverfassungs
 recht-64-junge-tagung-oeffentliches-recht/
END:VEVENT
BEGIN:VTIMEZONE
TZID:Europe/Berlin
BEGIN:DAYLIGHT
TZOFFSETFROM:+0100
TZOFFSETTO:+0200
DTSTART:20240331T010000
TZNAME:CEST
END:DAYLIGHT
END:VTIMEZONE
END:VCALENDAR
