BEGIN:VCALENDAR
VERSION:2.0
PRODID:-//Events | FID-Recht//NONSGML Events//EN
CALSCALE:GREGORIAN
X-ORIGINAL-URL:https://events.intrecht.de/termine/
X-WR-CALDESC:Events | FID-Recht - Events
BEGIN:VEVENT
UID:20221019T0647Z-1666162069.204-EO-6637-1@172.16.200.151
STATUS:CONFIRMED
DTSTAMP:20260423T084923Z
CREATED:20221017T102802Z
LAST-MODIFIED:20221017T102802Z
DTSTART;VALUE=DATE:20221108
DTEND;VALUE=DATE:20221109
SUMMARY: Zugang zum Recht durch Institutionelle Ethnographie verstehen – Ei
 ndrücke aus der Feldforschung (Werkstattgespräch)
DESCRIPTION: 8.11.2022 / Online und Berlin https://www.rewi.hu-berlin.de/de
 /lf/oe/lsi/termine/zugang-zum-recht-durch-institutionelle-ethnographie-vers
 tehen-eindruecke-aus-der-feldforschung-werkstattgespraech-mit-johanna-behr-
 und-leonie-thies  
X-ALT-DESC;FMTTYPE=text/html: <p>8.11.2022 / Online und Berlin</p><p><a hre
 f="https://www.rewi.hu-berlin.de/de/lf/oe/lsi/termine/zugang-zum-recht-durc
 h-institutionelle-ethnographie-verstehen-eindruecke-aus-der-feldforschung-w
 erkstattgespraech-mit-johanna-behr-und-leonie-thies">https://www.rewi.hu-be
 rlin.de/de/lf/oe/lsi/termine/zugang-zum-recht-durch-institutionelle-ethnogr
 aphie-verstehen-eindruecke-aus-der-feldforschung-werkstattgespraech-mit-joh
 anna-behr-und-leonie-thies</a></p><p> </p><p>[av_button label='iCal-Export'
  link='./feed/eo-events' link_target='' size='small' position='center' labe
 l_display='' title_attr='' icon_select='yes' icon='ue85b' font='entypo-font
 ello' color='custom' custom_bg='#b5123e' custom_font='#ffffff' av_uid='' id
 ='' custom_class='' admin_preview_bg='']</p>
CATEGORIES:Recht interdisziplinär
LOCATION:Online
GEO:0.000000;0.000000
ORGANIZER;CN="ViFa-Recht":MAILTO:vifa-recht@sbb.spk-berlin.de
URL;VALUE=URI:https://events.intrecht.de/termine/termin/zugang-zum-recht-du
 rch-institutionelle-ethnographie-verstehen-eindruecke-aus-der-feldforschung
 -werkstattgespraech/
END:VEVENT
BEGIN:VTIMEZONE
TZID:Europe/Berlin
BEGIN:STANDARD
TZOFFSETFROM:+0200
TZOFFSETTO:+0100
DTSTART:20221030T010000
TZNAME:CET
END:STANDARD
END:VTIMEZONE
END:VCALENDAR
