BEGIN:VCALENDAR
VERSION:2.0
PRODID:-//Events | FID-Recht//NONSGML Events//EN
CALSCALE:GREGORIAN
X-ORIGINAL-URL:https://events.intrecht.de/termine/
X-WR-CALDESC:Events | FID-Recht - Events
BEGIN:VEVENT
UID:20201115T2324Z-1605482673.6672-EO-2325-1@172.16.200.141
STATUS:CONFIRMED
DTSTAMP:20260422T213424Z
CREATED:20201113T131919Z
LAST-MODIFIED:20210201T173938Z
DTSTART;VALUE=DATE:20210304
DTEND;VALUE=DATE:20210306
SUMMARY: Zufall – rechtliche\, philosophische und theologische Aspekte (Onl
 ine-Tagung)
DESCRIPTION: 4.-5.3.2021\, Online   https://go.ur.de/zufall  
X-ALT-DESC;FMTTYPE=text/html: <p>4.-5.3.2021\, Online</p><p> </p><p><a href
 ="https://go.ur.de/zufall">https://go.ur.de/zufall</a></p><p> </p><p>[av_bu
 tton label='iCal-Export' link='./feed/eo-events' link_target='' size='small
 ' position='center' label_display='' title_attr='' icon_select='yes' icon='
 ue85b' font='entypo-fontello' color='custom' custom_bg='#b5123e' custom_fon
 t='#ffffff' av_uid='' id='' custom_class='' admin_preview_bg='']</p>
CATEGORIES:Recht interdisziplinär
LOCATION:Online
GEO:0.000000;0.000000
ORGANIZER;CN="ViFa-Recht":MAILTO:vifa-recht@sbb.spk-berlin.de
URL;VALUE=URI:https://events.intrecht.de/termine/termin/zufall-rechtliche-p
 hilosophische-und-theologische-aspekte-online-tagung/
END:VEVENT
BEGIN:VTIMEZONE
TZID:Europe/Berlin
BEGIN:STANDARD
TZOFFSETFROM:+0200
TZOFFSETTO:+0100
DTSTART:20201025T010000
TZNAME:CET
END:STANDARD
END:VTIMEZONE
END:VCALENDAR
