BEGIN:VCALENDAR
VERSION:2.0
PRODID:-//Events | FID-Recht//NONSGML Events//EN
CALSCALE:GREGORIAN
X-ORIGINAL-URL:https://events.intrecht.de/termine/
X-WR-CALDESC:Events | FID-Recht - Events
BEGIN:VEVENT
UID:20201115T2324Z-1605482653.5146-EO-2314-1@172.16.200.141
STATUS:CONFIRMED
DTSTAMP:20260422T193833Z
CREATED:20201113T131838Z
LAST-MODIFIED:20210201T173941Z
DTSTART;VALUE=DATE:20201128
DTEND;VALUE=DATE:20201129
SUMMARY: Zufall – rechtliche\, philosophische und theologische Aspekte (Cal
 l for Papers)
DESCRIPTION: Am 4. und 5. März 2021 soll über ZOOM eine Tagung zur Thematik
  „Zufall – rechtliche\, philosophische und theologische Aspekte“ stattfinde
 n. Ziel der Tagung ist die Förderung einer bunten Diskussion und eines kons
 truktiven interdisziplinären Austausches – ein gerade nicht zufälliges Tref
 fen von JuristInnen\, PhilosophInnen und TheologInnen! Der „Zufall“ lässt s
 ich auch mit den Begriffen „Notwendigkeit“\, […]
X-ALT-DESC;FMTTYPE=text/html: <p><em>Am 4. und 5. März 2021 soll über ZOOM 
 eine Tagung zur Thematik "Zufall - rechtliche\, philosophische und theologi
 sche Aspekte" stattfinden. Ziel der Tagung ist die Förderung einer bunten D
 iskussion und eines konstruktiven interdisziplinären Austausches - ein gera
 de nicht zufälliges Treffen von JuristInnen\, PhilosophInnen und TheologInn
 en! Der "Zufall" lässt sich auch mit den Begriffen "Notwendigkeit"\, "Kausa
 lität"\, "Kontingenz" und "Risiko" assoziieren - so wird das Spektrum der i
 n Betracht kommenden Ausgangspunkte umso breiter. <strong>Gesucht wird hier
 mit insbesondere ein Beitrag\, der einen rechtlichen Aspekt beleuchtet - vo
 n einer Grundlagenfrage über Zurechnungskonstellationen bis zu Verfahrenspr
 oblemen</strong>. Je nach Input können sogar zwei Beiträge ausgewählt werde
 n. Interessierte KollegInnen schicken bitte ein Abstract im Umfang von 300-
 400 Wörtern bis <strong>28. November 2020</strong> an <a href="mailto:Konst
 antina.Papathanasiou@jura.uni-regensburg.de">Konstantina.Papathanasiou@jura
 .uni-regensburg.de</a>.  Für die Vorträge sind 30 Minuten Zeit vorgesehen\,
  die anschließende Diskussion kann 20 Minuten dauern (nach Wunsch auch umge
 kehrt!). Eine Publikation aller Beiträge wird über Drittmittel finanziert w
 erden.</em></p><p> </p><p><a href="https://www.uni-regensburg.de/rechtswiss
 enschaft/strafrecht/walter/habilitanden/dr-papathanasiou/index.html">https:
 //www.uni-regensburg.de/rechtswissenschaft/strafrecht/walter/habilitanden/d
 r-papathanasiou/index.html</a></p><p> </p><p>Programm:</p><p><a href="https
 ://go.ur.de/zufall">https://go.ur.de/zufall</a></p><p> </p><p>[av_button la
 bel='iCal-Export' link='./feed/eo-events' link_target='' size='small' posit
 ion='center' label_display='' title_attr='' icon_select='yes' icon='ue85b' 
 font='entypo-fontello' color='custom' custom_bg='#b5123e' custom_font='#fff
 fff' av_uid='' id='' custom_class='' admin_preview_bg='']</p>
CATEGORIES:Recht interdisziplinär
LOCATION:Online
GEO:0.000000;0.000000
ORGANIZER;CN="ViFa-Recht":MAILTO:vifa-recht@sbb.spk-berlin.de
URL;VALUE=URI:https://events.intrecht.de/termine/termin/zufall-rechtliche-p
 hilosophische-und-theologische-aspekte-call-for-papers/
END:VEVENT
BEGIN:VTIMEZONE
TZID:Europe/Berlin
BEGIN:STANDARD
TZOFFSETFROM:+0200
TZOFFSETTO:+0100
DTSTART:20201025T010000
TZNAME:CET
END:STANDARD
END:VTIMEZONE
END:VCALENDAR
