BEGIN:VCALENDAR
VERSION:2.0
PRODID:-//Events | FID-Recht//NONSGML Events//EN
CALSCALE:GREGORIAN
X-ORIGINAL-URL:https://events.intrecht.de/termine/
X-WR-CALDESC:Events | FID-Recht - Events
BEGIN:VEVENT
UID:20210112T0314Z-1610421281.5962-EO-2271-1@172.16.200.141
STATUS:CONFIRMED
DTSTAMP:20260421T115532Z
CREATED:20201230T171617Z
LAST-MODIFIED:20210126T103410Z
DTSTART;VALUE=DATE:20210114
DTEND;VALUE=DATE:20210115
SUMMARY: Zu den aktuellen Entwicklungen im Zusammenhang mit dem Brexit (mit
  Robert Frau) (Online-Vortrag)
DESCRIPTION: 14.1.2021\, Online (ursprünglich vorgesehener Termin: 13.1.202
 1) https://www.wsi.uni-kiel.de/de/veranstaltungen/voelkerrechtliche-tagesth
 emen    
X-ALT-DESC;FMTTYPE=text/html: <p>14.1.2021\, Online (ursprünglich vorgesehe
 ner Termin: 13.1.2021)</p><p><a href="https://www.wsi.uni-kiel.de/de/verans
 taltungen/voelkerrechtliche-tagesthemen">https://www.wsi.uni-kiel.de/de/ver
 anstaltungen/voelkerrechtliche-tagesthemen</a></p><p><strong> </strong></p>
 <p> </p><p>[av_button label='iCal-Export' link='./feed/eo-events' link_targ
 et='' size='small' position='center' label_display='' title_attr='' icon_se
 lect='yes' icon='ue85b' font='entypo-fontello' color='custom' custom_bg='#b
 5123e' custom_font='#ffffff' av_uid='' id='' custom_class='' admin_preview_
 bg='']</p>
CATEGORIES:Europäisches / Internationales Recht
LOCATION:Online
GEO:0.000000;0.000000
ORGANIZER;CN="ViFa-Recht":MAILTO:vifa-recht@sbb.spk-berlin.de
URL;VALUE=URI:https://events.intrecht.de/termine/termin/zu-den-aktuellen-en
 twicklungen-im-zusammenhang-mit-dem-brexit-mit-robert-frau-online-vortrag/
END:VEVENT
BEGIN:VTIMEZONE
TZID:Europe/Berlin
BEGIN:STANDARD
TZOFFSETFROM:+0200
TZOFFSETTO:+0100
DTSTART:20201025T010000
TZNAME:CET
END:STANDARD
END:VTIMEZONE
END:VCALENDAR
