BEGIN:VCALENDAR
VERSION:2.0
PRODID:-//Events | FID-Recht//NONSGML Events//EN
CALSCALE:GREGORIAN
X-ORIGINAL-URL:https://events.intrecht.de/termine/
X-WR-CALDESC:Events | FID-Recht - Events
BEGIN:VEVENT
UID:20210731T2205Z-1627769151.0014-EO-4124-1@172.16.200.141
STATUS:CONFIRMED
DTSTAMP:20260421T133437Z
CREATED:20210728T145237Z
LAST-MODIFIED:20210728T145552Z
DTSTART;VALUE=DATE:20210923
DTEND;VALUE=DATE:20210925
SUMMARY: Zivilprozeßrecht im Mitteleuropa der Zwischenkriegszeit (Tagung)
DESCRIPTION: 23.-24.9.2021\, Regensburg Lehrstuhl Prof. Dr. Martin Löhnig –
  Universität Regensburg (uni-regensburg.de)    
X-ALT-DESC;FMTTYPE=text/html: <p>23.-24.9.2021\, Regensburg</p><p><a href="
 https://www.uni-regensburg.de/rechtswissenschaft/buergerliches-recht/loehni
 g/">Lehrstuhl Prof. Dr. Martin Löhnig - Universität Regensburg (uni-regensb
 urg.de)</a></p><p> </p><p> </p><p>[av_button label='iCal-Export' link='./fe
 ed/eo-events' link_target='' size='small' position='center' label_display='
 ' title_attr='' icon_select='yes' icon='ue85b' font='entypo-fontello' color
 ='custom' custom_bg='#b5123e' custom_font='#ffffff' av_uid='' id='' custom_
 class='' admin_preview_bg='']</p>
CATEGORIES:Recht interdisziplinär,Zivilrecht
LOCATION:Inland
GEO:0.000000;0.000000
ORGANIZER;CN="Frontend-Submission":MAILTO:florian.schwalenberg@sbb.spk-berl
 in.de
URL;VALUE=URI:https://events.intrecht.de/termine/termin/zivilprozessrecht-i
 m-mitteleuropa-der-zwischenkriegszeit-tagung/
END:VEVENT
BEGIN:VTIMEZONE
TZID:Europe/Berlin
BEGIN:DAYLIGHT
TZOFFSETFROM:+0100
TZOFFSETTO:+0200
DTSTART:20210328T010000
TZNAME:CEST
END:DAYLIGHT
END:VTIMEZONE
END:VCALENDAR
