BEGIN:VCALENDAR
VERSION:2.0
PRODID:-//Events | FID-Recht//NONSGML Events//EN
CALSCALE:GREGORIAN
X-ORIGINAL-URL:https://events.intrecht.de/termine/
X-WR-CALDESC:Events | FID-Recht - Events
BEGIN:VEVENT
UID:20211117T2043Z-1637181791.2392-EO-5183-1@172.16.200.141
STATUS:CONFIRMED
DTSTAMP:20260422T112234Z
CREATED:20211116T234028Z
LAST-MODIFIED:20211116T234028Z
DTSTART;VALUE=DATE:20211124
DTEND;VALUE=DATE:20211125
SUMMARY: Zivilisationstheorie. Gewalt und Selbstkontrolle – Zur Soziologie 
 des Sadomasochismus mit Matthias Meitzler) / Moralisierung des Strafrechts?
  Die Grenzen der Einwilligung (mit Armin Engländer) (Online-Vorträge)
DESCRIPTION: 24.11.2021\, Online Passauer 10 Minuten zum Thema Gewalt • Uni
 versität Passau (uni-passau.de)  
X-ALT-DESC;FMTTYPE=text/html: <p>24.11.2021\, Online</p><p><a href="https:/
 /www.phil.uni-passau.de/10minuten-wise21/">Passauer 10 Minuten zum Thema Ge
 walt • Universität Passau (uni-passau.de)</a></p><p> </p><p>[av_button labe
 l='iCal-Export' link='./feed/eo-events' link_target='' size='small' positio
 n='center' label_display='' title_attr='' icon_select='yes' icon='ue85b' fo
 nt='entypo-fontello' color='custom' custom_bg='#b5123e' custom_font='#fffff
 f' av_uid='' id='' custom_class='' admin_preview_bg='']</p>
CATEGORIES:Strafrecht
LOCATION:Online
GEO:0.000000;0.000000
ORGANIZER;CN="ViFa-Recht":MAILTO:vifa-recht@sbb.spk-berlin.de
URL;VALUE=URI:https://events.intrecht.de/termine/termin/zivilisationstheori
 e-gewalt-und-selbstkontrolle-zur-soziologie-des-sadomasochismus-mit-matthia
 s-meitzler-moralisierung-des-strafrechts-die-grenzen-der-einwilligung-mit-a
 rmin-englaender/
END:VEVENT
BEGIN:VTIMEZONE
TZID:Europe/Berlin
BEGIN:STANDARD
TZOFFSETFROM:+0200
TZOFFSETTO:+0100
DTSTART:20211031T010000
TZNAME:CET
END:STANDARD
END:VTIMEZONE
END:VCALENDAR
