BEGIN:VCALENDAR
VERSION:2.0
PRODID:-//Events | FID-Recht//NONSGML Events//EN
CALSCALE:GREGORIAN
X-ORIGINAL-URL:https://events.intrecht.de/termine/
X-WR-CALDESC:Events | FID-Recht - Events
BEGIN:VEVENT
UID:20230122T2003Z-1674417810.0593-EO-8053-1@172.16.200.151
STATUS:CONFIRMED
DTSTAMP:20260423T070816Z
CREATED:20230118T140852Z
LAST-MODIFIED:20230118T140852Z
DTSTART;VALUE=DATE:20230118
DTEND;VALUE=DATE:20230119
SUMMARY: Ziviler Ungehorsam in der Klimakrise – Recht oder Unrecht? (Podium
 sdiskussion)
DESCRIPTION: 18.1.2023 / Leipzig https://www.uni-leipzig.de/veranstaltungsd
 etail/artikel/ziviler-ungehorsam-in-der-klimakrise-recht-oder-unrecht-2023-
 01-18  
X-ALT-DESC;FMTTYPE=text/html: <p>18.1.2023 / Leipzig</p><p><a href="https:/
 /www.uni-leipzig.de/veranstaltungsdetail/artikel/ziviler-ungehorsam-in-der-
 klimakrise-recht-oder-unrecht-2023-01-18">https://www.uni-leipzig.de/verans
 taltungsdetail/artikel/ziviler-ungehorsam-in-der-klimakrise-recht-oder-unre
 cht-2023-01-18</a></p><p> </p><p>[av_button label='iCal-Export' link='./fee
 d/eo-events' link_target='' size='small' position='center' label_display=''
  title_attr='' icon_select='yes' icon='ue85b' font='entypo-fontello' color=
 'custom' custom_bg='#b5123e' custom_font='#ffffff' av_uid='' id='' custom_c
 lass='' admin_preview_bg='']</p>
CATEGORIES:Recht interdisziplinär
LOCATION:Inland
GEO:0.000000;0.000000
ORGANIZER;CN="ViFa-Recht":MAILTO:vifa-recht@sbb.spk-berlin.de
URL;VALUE=URI:https://events.intrecht.de/termine/termin/ziviler-ungehorsam-
 in-der-klimakrise-recht-oder-unrecht-podiumsdiskussion/
END:VEVENT
BEGIN:VTIMEZONE
TZID:Europe/Berlin
BEGIN:STANDARD
TZOFFSETFROM:+0200
TZOFFSETTO:+0100
DTSTART:20221030T010000
TZNAME:CET
END:STANDARD
END:VTIMEZONE
END:VCALENDAR
