BEGIN:VCALENDAR
VERSION:2.0
PRODID:-//Events | FID-Recht//NONSGML Events//EN
CALSCALE:GREGORIAN
X-ORIGINAL-URL:https://events.intrecht.de/termine/
X-WR-CALDESC:Events | FID-Recht - Events
BEGIN:VEVENT
UID:20230418T0212Z-1681783970.2067-EO-12808-1@172.16.200.151
STATUS:CONFIRMED
DTSTAMP:20260425T134046Z
CREATED:20230215T163703Z
LAST-MODIFIED:20230215T163703Z
DTSTART;VALUE=DATE:20230223
DTEND;VALUE=DATE:20230225
SUMMARY: Zeitenwende in der Osteuropäischen Geschichte. Die Disziplin debat
 tiert Russlands Krieg gegen die Ukraine (Kolloquium)
DESCRIPTION: 23.-24.2.2023 / Marburg https://www.herder-institut.de/event/v
 oh-tagung/  
X-ALT-DESC;FMTTYPE=text/html: <p>23.-24.2.2023 / Marburg</p><p><a href="htt
 ps://www.herder-institut.de/event/voh-tagung/">https://www.herder-institut.
 de/event/voh-tagung/</a></p><p> </p><p>[av_button label='iCal-Export' link=
 './feed/eo-events' link_target='' size='small' position='center' label_disp
 lay='' title_attr='' icon_select='yes' icon='ue85b' font='entypo-fontello' 
 color='custom' custom_bg='#b5123e' custom_font='#ffffff' av_uid='' id='' cu
 stom_class='' admin_preview_bg='']</p>
CATEGORIES:Recht interdisziplinär
LOCATION:Inland
GEO:0.000000;0.000000
ORGANIZER;CN="ViFa-Recht":MAILTO:vifa-recht@sbb.spk-berlin.de
URL;VALUE=URI:https://events.intrecht.de/termine/termin/zeitenwende-in-der-
 osteuropaeischen-geschichte-die-disziplin-debattiert-russlands-krieg-gegen-
 die-ukraine-kolloquium/
END:VEVENT
BEGIN:VTIMEZONE
TZID:Europe/Berlin
BEGIN:STANDARD
TZOFFSETFROM:+0200
TZOFFSETTO:+0100
DTSTART:20221030T010000
TZNAME:CET
END:STANDARD
END:VTIMEZONE
END:VCALENDAR
