BEGIN:VCALENDAR
VERSION:2.0
PRODID:-//Events | FID-Recht//NONSGML Events//EN
CALSCALE:GREGORIAN
X-ORIGINAL-URL:https://events.intrecht.de/termine/
X-WR-CALDESC:Events | FID-Recht - Events
BEGIN:VEVENT
UID:20200603T1418Z-1591193923.3362-EO-587-1@172.16.200.141
STATUS:CONFIRMED
DTSTAMP:20260426T031931Z
CREATED:20230807T080929Z
LAST-MODIFIED:20230807T080929Z
DTSTART;VALUE=DATE:20231101
DTEND;VALUE=DATE:20231102
SUMMARY: Young Scholar’s Workshop: Canadian Yearbook of International Law &
  International Law Group
DESCRIPTION: 1.11.2023 / Ottawa (Frist für Einreichungen: 5.9.2023) https:/
 /www.afronomicslaw.org/category/news-and-events/cfp-young-scholars-workshop
 -canadian-yearbook-international-law-and
X-ALT-DESC;FMTTYPE=text/html: <p>1.11.2023 / Ottawa <strong>(Frist für Einr
 eichungen:</strong> <strong>5.9.2023)</strong></p><p><a href="https://www.a
 fronomicslaw.org/category/news-and-events/cfp-young-scholars-workshop-canad
 ian-yearbook-international-law-and">https://www.afronomicslaw.org/category/
 news-and-events/cfp-young-scholars-workshop-canadian-yearbook-international
 -law-and</a></p><p>[av_button label='iCal-Export' link='./feed/eo-events' l
 ink_target='' size='small' position='center' label_display='' title_attr=''
  icon_select='yes' icon='ue85b' font='entypo-fontello' color='custom' custo
 m_bg='#b5123e' custom_font='#ffffff' av_uid='' id='' custom_class='' admin_
 preview_bg='']</p>
CATEGORIES:Europäisches / Internationales Recht
LOCATION:Ausland
GEO:0.000000;0.000000
ORGANIZER;CN="ViFa-Recht":MAILTO:vifa-recht@sbb.spk-berlin.de
URL;VALUE=URI:https://events.intrecht.de/termine/termin/young-scholars-work
 shop-canadian-yearbook-of-international-law-international-law-group/
END:VEVENT
BEGIN:VTIMEZONE
TZID:Europe/Berlin
BEGIN:STANDARD
TZOFFSETFROM:+0200
TZOFFSETTO:+0100
DTSTART:20231029T010000
TZNAME:CET
END:STANDARD
END:VTIMEZONE
END:VCALENDAR
