BEGIN:VCALENDAR
VERSION:2.0
PRODID:-//Events | FID-Recht//NONSGML Events//EN
CALSCALE:GREGORIAN
X-ORIGINAL-URL:https://events.intrecht.de/termine/
X-WR-CALDESC:Events | FID-Recht - Events
BEGIN:VEVENT
UID:20200603T1418Z-1591193923.3362-EO-587-1@172.16.200.141
STATUS:CONFIRMED
DTSTAMP:20260425T164740Z
CREATED:20231021T153106Z
LAST-MODIFIED:20231021T153106Z
DTSTART;VALUE=DATE:20240226
DTEND;VALUE=DATE:20240227
SUMMARY: Writing and Publishing in the Law of the ECHR (A Workshop for Earl
 y Career Researchers)
DESCRIPTION: 26.2.2024 / Online und Köln (Bewerbungsfrist: 15.12.2023) http
 s://academy-humanrights.uni-koeln.de/sites/humanrights/Aktuelles/2023/CfP_W
 riting_and_Publishing_in_the_Law_of_the_ECHR_3_Oct_23.pdf
X-ALT-DESC;FMTTYPE=text/html: <p>26.2.2024 / Online und Köln <strong>(Bewer
 bungsfrist: 15.12.2023)</strong></p><p><a href="https://academy-humanrights
 .uni-koeln.de/sites/humanrights/Aktuelles/2023/CfP_Writing_and_Publishing_i
 n_the_Law_of_the_ECHR_3_Oct_23.pdf">https://academy-humanrights.uni-koeln.d
 e/sites/humanrights/Aktuelles/2023/CfP_Writing_and_Publishing_in_the_Law_of
 _the_ECHR_3_Oct_23.pdf</a></p><p>[av_button label='iCal-Export' link='./fee
 d/eo-events' link_target='' size='small' position='center' label_display=''
  title_attr='' icon_select='yes' icon='ue85b' font='entypo-fontello' color=
 'custom' custom_bg='#b5123e' custom_font='#ffffff' av_uid='' id='' custom_c
 lass='' admin_preview_bg='']</p>
CATEGORIES:Europäisches / Internationales Recht
LOCATION:Online
GEO:0.000000;0.000000
ORGANIZER;CN="ViFa-Recht":MAILTO:vifa-recht@sbb.spk-berlin.de
URL;VALUE=URI:https://events.intrecht.de/termine/termin/writing-and-publish
 ing-in-the-law-of-the-echr-a-workshop-for-early-career-researchers/
END:VEVENT
BEGIN:VTIMEZONE
TZID:Europe/Berlin
BEGIN:STANDARD
TZOFFSETFROM:+0200
TZOFFSETTO:+0100
DTSTART:20231029T010000
TZNAME:CET
END:STANDARD
END:VTIMEZONE
END:VCALENDAR
