BEGIN:VCALENDAR
VERSION:2.0
PRODID:-//Events | FID-Recht//NONSGML Events//EN
CALSCALE:GREGORIAN
X-ORIGINAL-URL:https://events.intrecht.de/termine/
X-WR-CALDESC:Events | FID-Recht - Events
BEGIN:VEVENT
UID:20220228T1715Z-1646068511.4349-EO-5993-1@172.16.200.141
STATUS:CONFIRMED
DTSTAMP:20260425T212749Z
CREATED:20220217T103945Z
LAST-MODIFIED:20220217T103952Z
DTSTART;VALUE=DATE:20221205
DTEND;VALUE=DATE:20221210
SUMMARY: World Congress of Constitutional Law (Tagung)
DESCRIPTION: 5.-9.12.2022\, Johannesburg (verlängerte Frist für Einreichung
 en: 28.2.2022) World Congress of Constitutional Law – WCCL  
X-ALT-DESC;FMTTYPE=text/html: <p>5.-9.12.2022\, Johannesburg (verlängerte F
 rist für Einreichungen: 28.2.2022)</p><p><a href="https://wccl.co.za/">Worl
 d Congress of Constitutional Law – WCCL</a></p><p> </p><p>[av_button label=
 'iCal-Export' link='./feed/eo-events' link_target='' size='small' position=
 'center' label_display='' title_attr='' icon_select='yes' icon='ue85b' font
 ='entypo-fontello' color='custom' custom_bg='#b5123e' custom_font='#ffffff'
  av_uid='' id='' custom_class='' admin_preview_bg='']</p>
CATEGORIES:Öffentliches Recht
LOCATION:Ausland
GEO:0.000000;0.000000
ORGANIZER;CN="ViFa-Recht":MAILTO:vifa-recht@sbb.spk-berlin.de
URL;VALUE=URI:https://events.intrecht.de/termine/termin/world-congress-of-c
 onstitutional-lawtagung/
END:VEVENT
BEGIN:VTIMEZONE
TZID:Europe/Berlin
BEGIN:STANDARD
TZOFFSETFROM:+0200
TZOFFSETTO:+0100
DTSTART:20221030T010000
TZNAME:CET
END:STANDARD
END:VTIMEZONE
END:VCALENDAR
