BEGIN:VCALENDAR
VERSION:2.0
PRODID:-//Events | FID-Recht//NONSGML Events//EN
CALSCALE:GREGORIAN
X-ORIGINAL-URL:https://events.intrecht.de/termine/
X-WR-CALDESC:Events | FID-Recht - Events
BEGIN:VEVENT
UID:20221112T0309Z-1668222588.4765-EO-7414-1@172.16.200.151
STATUS:CONFIRMED
DTSTAMP:20260423T084919Z
CREATED:20221109T102857Z
LAST-MODIFIED:20221109T102857Z
DTSTART;VALUE=DATE:20221126
DTEND;VALUE=DATE:20221127
SUMMARY: Workshop on Intellectual Property Rights and The Youth
DESCRIPTION: 26.11.2022 / Online https://voelkerrechtsblog.org/events/works
 hop-on-intellectual-property-rights-and-the-youth/  
X-ALT-DESC;FMTTYPE=text/html: <p>26.11.2022 / Online</p><p><a href="https:/
 /voelkerrechtsblog.org/events/workshop-on-intellectual-property-rights-and-
 the-youth/">https://voelkerrechtsblog.org/events/workshop-on-intellectual-p
 roperty-rights-and-the-youth/</a></p><p> </p><p>[av_button label='iCal-Expo
 rt' link='./feed/eo-events' link_target='' size='small' position='center' l
 abel_display='' title_attr='' icon_select='yes' icon='ue85b' font='entypo-f
 ontello' color='custom' custom_bg='#b5123e' custom_font='#ffffff' av_uid=''
  id='' custom_class='' admin_preview_bg='']</p>
CATEGORIES:Recht interdisziplinär
LOCATION:Online
GEO:0.000000;0.000000
ORGANIZER;CN="ViFa-Recht":MAILTO:vifa-recht@sbb.spk-berlin.de
URL;VALUE=URI:https://events.intrecht.de/termine/termin/workshop-on-intelle
 ctual-property-rights-and-the-youth/
END:VEVENT
BEGIN:VTIMEZONE
TZID:Europe/Berlin
BEGIN:STANDARD
TZOFFSETFROM:+0200
TZOFFSETTO:+0100
DTSTART:20221030T010000
TZNAME:CET
END:STANDARD
END:VTIMEZONE
END:VCALENDAR
