BEGIN:VCALENDAR
VERSION:2.0
PRODID:-//Events | FID-Recht//NONSGML Events//EN
CALSCALE:GREGORIAN
X-ORIGINAL-URL:https://events.intrecht.de/termine/
X-WR-CALDESC:Events | FID-Recht - Events
BEGIN:VEVENT
UID:20200603T1418Z-1591193923.3362-EO-587-1@172.16.200.141
STATUS:CONFIRMED
DTSTAMP:20260422T193722Z
CREATED:20240305T133125Z
LAST-MODIFIED:20240305T133125Z
DTSTART;VALUE=DATE:20240624
DTEND;VALUE=DATE:20240626
SUMMARY: Workshop on Constitutional Interpretation in Emergencies in Europe
DESCRIPTION: 24.-25.6.2024 / Florenz (Einreichungsfrist: 31.3.2024) https:/
 /blog-iacl-aidc.org/cfp/2024/3/5/cfp-workshop-on-constitutional-interpretat
 ion-in-emergencies-in-europe
X-ALT-DESC;FMTTYPE=text/html: <p>24.-25.6.2024 / Florenz <strong>(Einreichu
 ngsfrist: 31.3.2024)</strong></p><p><a href="https://blog-iacl-aidc.org/cfp
 /2024/3/5/cfp-workshop-on-constitutional-interpretation-in-emergencies-in-e
 urope">https://blog-iacl-aidc.org/cfp/2024/3/5/cfp-workshop-on-constitution
 al-interpretation-in-emergencies-in-europe</a></p><p>[av_button label='iCal
 -Export' link='./feed/eo-events' link_target='' size='small' position='cent
 er' label_display='' title_attr='' icon_select='yes' icon='ue85b' font='ent
 ypo-fontello' color='custom' custom_bg='#b5123e' custom_font='#ffffff' av_u
 id='' id='' custom_class='' admin_preview_bg='']</p>
CATEGORIES:Europäisches / Internationales Recht
LOCATION:Ausland
GEO:0.000000;0.000000
ORGANIZER;CN="ViFa-Recht":MAILTO:vifa-recht@sbb.spk-berlin.de
URL;VALUE=URI:https://events.intrecht.de/termine/termin/workshop-on-constit
 utional-interpretation-in-emergencies-in-europe/
END:VEVENT
BEGIN:VTIMEZONE
TZID:Europe/Berlin
BEGIN:DAYLIGHT
TZOFFSETFROM:+0100
TZOFFSETTO:+0200
DTSTART:20240331T010000
TZNAME:CEST
END:DAYLIGHT
END:VTIMEZONE
END:VCALENDAR
