BEGIN:VCALENDAR
VERSION:2.0
PRODID:-//Events | FID-Recht//NONSGML Events//EN
CALSCALE:GREGORIAN
X-ORIGINAL-URL:https://events.intrecht.de/termine/
X-WR-CALDESC:Events | FID-Recht - Events
BEGIN:VEVENT
UID:20200603T1418Z-1591193923.3362-EO-587-1@172.16.200.141
STATUS:CONFIRMED
DTSTAMP:20260423T065950Z
CREATED:20250618T070235Z
LAST-MODIFIED:20250618T070235Z
DTSTART;VALUE=DATE:20251111
DTEND;VALUE=DATE:20251113
SUMMARY: Workshop für Nachwuchsforschende in der Verbraucherforschung
DESCRIPTION: 11.-12.11.2025 / Berlin (Einreichungsfrist: 11.8.2025) https:/
 /www.workshop-verbraucherforschung.de/pages/home
X-ALT-DESC;FMTTYPE=text/html: <p>11.-12.11.2025 / Berlin <strong>(Einreichu
 ngsfrist: 11.8.2025)</strong></p><p><a href="https://www.workshop-verbrauch
 erforschung.de/pages/home">https://www.workshop-verbraucherforschung.de/pag
 es/home</a></p><p>[av_button label='iCal-Export' link='./feed/eo-events' li
 nk_target='' size='small' position='center' label_display='' title_attr='' 
 icon_select='yes' icon='ue85b' font='entypo-fontello' color='custom' custom
 _bg='#b5123e' custom_font='#ffffff' av_uid='' id='' custom_class='' admin_p
 review_bg='']</p>
CATEGORIES:Zivilrecht
LOCATION:Inland
GEO:0.000000;0.000000
ORGANIZER;CN="ViFa-Recht":MAILTO:vifa-recht@sbb.spk-berlin.de
URL;VALUE=URI:https://events.intrecht.de/termine/termin/workshop-fuer-nachw
 uchsforschende-in-der-verbraucherforschung/
END:VEVENT
BEGIN:VTIMEZONE
TZID:Europe/Berlin
BEGIN:STANDARD
TZOFFSETFROM:+0200
TZOFFSETTO:+0100
DTSTART:20251026T010000
TZNAME:CET
END:STANDARD
END:VTIMEZONE
END:VCALENDAR
