BEGIN:VCALENDAR
VERSION:2.0
PRODID:-//Events | FID-Recht//NONSGML Events//EN
CALSCALE:GREGORIAN
X-ORIGINAL-URL:https://events.intrecht.de/termine/
X-WR-CALDESC:Events | FID-Recht - Events
BEGIN:VEVENT
UID:20200813T0444Z-1597293889.9334-EO-1356-1@172.16.200.141
STATUS:CONFIRMED
DTSTAMP:20260421T115334Z
CREATED:20200730T195221Z
LAST-MODIFIED:20210126T183752Z
DTSTART;VALUE=DATE:20210128
DTEND;VALUE=DATE:20210130
SUMMARY: VERSCHOBEN: Working with Benjamin on Law (Workshop for Young Resea
 rchers) (Workshop)
DESCRIPTION: 28.-29.1.2021\, Berlin/ggf. Online – NEUER TERMIN: voraussicht
 lich Sommer 2021 http://walterbenjamin.info/event/call-for-papers-working-w
 ith-benjamin-on-law/      
X-ALT-DESC;FMTTYPE=text/html: <p>28.-29.1.2021\, Berlin/ggf. Online - NEUER
  TERMIN: voraussichtlich Sommer 2021</p><p><a href="http://walterbenjamin.i
 nfo/event/call-for-papers-working-with-benjamin-on-law/">http://walterbenja
 min.info/event/call-for-papers-working-with-benjamin-on-law/</a></p><p> </p
 ><p> </p><p> </p><p>[av_button label='iCal-Export' link='./feed/eo-events' 
 link_target='' size='small' position='center' label_display='' title_attr='
 ' icon_select='yes' icon='ue85b' font='entypo-fontello' color='custom' cust
 om_bg='#b5123e' custom_font='#ffffff' av_uid='' id='' custom_class='' admin
 _preview_bg='']</p>
CATEGORIES:Recht interdisziplinär
LOCATION:Inland
GEO:0.000000;0.000000
ORGANIZER;CN="ViFa-Recht":MAILTO:vifa-recht@sbb.spk-berlin.de
URL;VALUE=URI:https://events.intrecht.de/termine/termin/working-with-benjam
 in-on-law-workshop-for-young-researchers-workshop/
END:VEVENT
BEGIN:VTIMEZONE
TZID:Europe/Berlin
BEGIN:STANDARD
TZOFFSETFROM:+0200
TZOFFSETTO:+0100
DTSTART:20201025T010000
TZNAME:CET
END:STANDARD
END:VTIMEZONE
END:VCALENDAR
