BEGIN:VCALENDAR
VERSION:2.0
PRODID:-//Events | FID-Recht//NONSGML Events//EN
CALSCALE:GREGORIAN
X-ORIGINAL-URL:https://events.intrecht.de/termine/
X-WR-CALDESC:Events | FID-Recht - Events
BEGIN:VEVENT
UID:20200813T0638Z-1597300705.6813-EO-1259-1@172.16.200.141
STATUS:CONFIRMED
DTSTAMP:20260421T133342Z
CREATED:20200730T195102Z
LAST-MODIFIED:20200730T195234Z
DTSTART;VALUE=DATE:20200831
DTEND;VALUE=DATE:20200901
SUMMARY: Working with Benjamin on Law (Workshop for Young Researchers) (Cal
 l for Papers)
DESCRIPTION: 28.-29.1.2021\, Berlin/ggf. Online (Frist für Einreichungen: 3
 1.8.2020) http://walterbenjamin.info/event/call-for-papers-working-with-ben
 jamin-on-law/      
X-ALT-DESC;FMTTYPE=text/html: <p>28.-29.1.2021\, Berlin/ggf. Online (Frist 
 für Einreichungen: 31.8.2020)</p><p><a href="http://walterbenjamin.info/eve
 nt/call-for-papers-working-with-benjamin-on-law/">http://walterbenjamin.inf
 o/event/call-for-papers-working-with-benjamin-on-law/</a></p><p> </p><p> </
 p><p> </p><p>[av_button label='iCal-Export' link='./feed/eo-events' link_ta
 rget='' size='small' position='center' label_display='' title_attr='' icon_
 select='yes' icon='ue85b' font='entypo-fontello' color='custom' custom_bg='
 #b5123e' custom_font='#ffffff' av_uid='' id='' custom_class='' admin_previe
 w_bg='']</p>
CATEGORIES:Recht interdisziplinär
LOCATION:Inland
GEO:0.000000;0.000000
ORGANIZER;CN="ViFa-Recht":MAILTO:vifa-recht@sbb.spk-berlin.de
URL;VALUE=URI:https://events.intrecht.de/termine/termin/working-with-benjam
 in-on-law-workshop-for-young-researchers-call-for-papers/
END:VEVENT
BEGIN:VTIMEZONE
TZID:Europe/Berlin
BEGIN:DAYLIGHT
TZOFFSETFROM:+0100
TZOFFSETTO:+0200
DTSTART:20200329T010000
TZNAME:CEST
END:DAYLIGHT
END:VTIMEZONE
END:VCALENDAR
