BEGIN:VCALENDAR
VERSION:2.0
PRODID:-//Events | FID-Recht//NONSGML Events//EN
CALSCALE:GREGORIAN
X-ORIGINAL-URL:https://events.intrecht.de/termine/
X-WR-CALDESC:Events | FID-Recht - Events
BEGIN:VEVENT
UID:20200603T1418Z-1591193923.3362-EO-587-1@172.16.200.141
STATUS:CONFIRMED
DTSTAMP:20260423T003317Z
CREATED:20241004T150423Z
LAST-MODIFIED:20241004T150423Z
DTSTART;VALUE=DATE:20250221
DTEND;VALUE=DATE:20250222
SUMMARY: Women’s Leadership in Law and Politics (Scholars Virtual Symposium
 )
DESCRIPTION: 21.2.2025 / Online (Einreichungsfrist: 1.12.2024) https://lawp
 rofessors.typepad.com/gender_law/2024/10/cfp-symposium-womens-leadership-in
 -law-and-politics.html
X-ALT-DESC;FMTTYPE=text/html: <p>21.2.2025 / Online <strong>(Einreichungsfr
 ist: 1.12.2024)</strong></p><p><a href="https://lawprofessors.typepad.com/g
 ender_law/2024/10/cfp-symposium-womens-leadership-in-law-and-politics.html"
 >https://lawprofessors.typepad.com/gender_law/2024/10/cfp-symposium-womens-
 leadership-in-law-and-politics.html</a></p><p>[av_button label='iCal-Export
 ' link='./feed/eo-events' link_target='' size='small' position='center' lab
 el_display='' title_attr='' icon_select='yes' icon='ue85b' font='entypo-fon
 tello' color='custom' custom_bg='#b5123e' custom_font='#ffffff' av_uid='' i
 d='' custom_class='' admin_preview_bg='']</p>
CATEGORIES:Recht interdisziplinär
LOCATION:Online
GEO:0.000000;0.000000
ORGANIZER;CN="ViFa-Recht":MAILTO:vifa-recht@sbb.spk-berlin.de
URL;VALUE=URI:https://events.intrecht.de/termine/termin/womens-leadership-i
 n-law-and-politics-scholars-virtual-symposium/
END:VEVENT
BEGIN:VTIMEZONE
TZID:Europe/Berlin
BEGIN:STANDARD
TZOFFSETFROM:+0200
TZOFFSETTO:+0100
DTSTART:20241027T010000
TZNAME:CET
END:STANDARD
END:VTIMEZONE
END:VCALENDAR
