BEGIN:VCALENDAR
VERSION:2.0
PRODID:-//Events | FID-Recht//NONSGML Events//EN
CALSCALE:GREGORIAN
X-ORIGINAL-URL:https://events.intrecht.de/termine/
X-WR-CALDESC:Events | FID-Recht - Events
BEGIN:VEVENT
UID:20230511T1704Z-1683824660.2017-EO-8309-1@172.16.200.151
STATUS:CONFIRMED
DTSTAMP:20260425T164954Z
CREATED:20230207T161220Z
LAST-MODIFIED:20230207T161220Z
DTSTART;VALUE=DATE:20231019
DTEND;VALUE=DATE:20231022
SUMMARY: Women’s Bodies\, Women’s Rights. Health Feminism\, Reproductive Kn
 owledge and Women’s Activism Across Europe in the long 20th Century (Konfer
 enz)
DESCRIPTION: 19.-21.10.2023 / Konstanz (Frist für Einreichungen: 28.2.2023)
  https://www.hsozkult.de/event/id/event-133740  
X-ALT-DESC;FMTTYPE=text/html: <p>19.-21.10.2023 / Konstanz <strong>(Frist f
 ür Einreichungen: 28.2.2023)</strong></p><p><a href="https://www.hsozkult.d
 e/event/id/event-133740">https://www.hsozkult.de/event/id/event-133740</a><
 /p><p> </p><p>[av_button label='iCal-Export' link='./feed/eo-events' link_t
 arget='' size='small' position='center' label_display='' title_attr='' icon
 _select='yes' icon='ue85b' font='entypo-fontello' color='custom' custom_bg=
 '#b5123e' custom_font='#ffffff' av_uid='' id='' custom_class='' admin_previ
 ew_bg='']</p>
CATEGORIES:Recht interdisziplinär
LOCATION:Inland
GEO:0.000000;0.000000
ORGANIZER;CN="ViFa-Recht":MAILTO:vifa-recht@sbb.spk-berlin.de
URL;VALUE=URI:https://events.intrecht.de/termine/termin/womens-bodies-women
 s-rights-health-feminism-reproductive-knowledge-and-womens-activism-across-
 europe-in-the-long-20th-century-konferenz/
END:VEVENT
BEGIN:VTIMEZONE
TZID:Europe/Berlin
BEGIN:DAYLIGHT
TZOFFSETFROM:+0100
TZOFFSETTO:+0200
DTSTART:20230326T010000
TZNAME:CEST
END:DAYLIGHT
END:VTIMEZONE
END:VCALENDAR
