BEGIN:VCALENDAR
VERSION:2.0
PRODID:-//Events | FID-Recht//NONSGML Events//EN
CALSCALE:GREGORIAN
X-ORIGINAL-URL:https://events.intrecht.de/termine/
X-WR-CALDESC:Events | FID-Recht - Events
BEGIN:VEVENT
UID:20200603T1418Z-1591193923.3362-EO-587-1@172.16.200.141
STATUS:CONFIRMED
DTSTAMP:20260421T165835Z
CREATED:20230822T093115Z
LAST-MODIFIED:20230822T093115Z
DTSTART;VALUE=DATE:20231011
DTEND;VALUE=DATE:20231012
SUMMARY: Women and gender history in the Portuguese Empire: global knowledg
 e production (Hybrid Workshop)
DESCRIPTION: 11.10.2023 / Online und Frankfurt am Main https://www.lhlt.mpg
 .de/events/35183/2077701
X-ALT-DESC;FMTTYPE=text/html: <p>11.10.2023 / Online und Frankfurt am Main<
 /p><p><a href="https://www.lhlt.mpg.de/events/35183/2077701">https://www.lh
 lt.mpg.de/events/35183/2077701</a></p><p>[av_button label='iCal-Export' lin
 k='./feed/eo-events' link_target='' size='small' position='center' label_di
 splay='' title_attr='' icon_select='yes' icon='ue85b' font='entypo-fontello
 ' color='custom' custom_bg='#b5123e' custom_font='#ffffff' av_uid='' id='' 
 custom_class='' admin_preview_bg='']</p>
CATEGORIES:Recht interdisziplinär
LOCATION:Online
GEO:0.000000;0.000000
ORGANIZER;CN="ViFa-Recht":MAILTO:vifa-recht@sbb.spk-berlin.de
URL;VALUE=URI:https://events.intrecht.de/termine/termin/women-and-gender-hi
 story-in-the-portuguese-empire-global-knowledge-production-hybrid-workshop/
END:VEVENT
BEGIN:VTIMEZONE
TZID:Europe/Berlin
BEGIN:DAYLIGHT
TZOFFSETFROM:+0100
TZOFFSETTO:+0200
DTSTART:20230326T010000
TZNAME:CEST
END:DAYLIGHT
END:VTIMEZONE
END:VCALENDAR
