BEGIN:VCALENDAR
VERSION:2.0
PRODID:-//Events | FID-Recht//NONSGML Events//EN
CALSCALE:GREGORIAN
X-ORIGINAL-URL:https://events.intrecht.de/termine/
X-WR-CALDESC:Events | FID-Recht - Events
BEGIN:VEVENT
UID:20211007T1252Z-1633611151.9776-EO-4436-1@172.16.200.141
STATUS:CONFIRMED
DTSTAMP:20260425T202825Z
CREATED:20211005T165915Z
LAST-MODIFIED:20211005T165915Z
DTSTART;VALUE=DATE:20211101
DTEND;VALUE=DATE:20211101
SUMMARY: Wither the power of disallowance? (Online-Vortrag)
DESCRIPTION: 1.11.2021\, Online https://www.lhlt.mpg.de/2547246/event-21-11
 -01-common-law-research-seminar.html    
X-ALT-DESC;FMTTYPE=text/html: <p>1.11.2021\, Online</p><p><a href="https://
 www.lhlt.mpg.de/2547246/event-21-11-01-common-law-research-seminar.html">ht
 tps://www.lhlt.mpg.de/2547246/event-21-11-01-common-law-research-seminar.ht
 ml</a></p><p> </p><p> </p><p>[av_button label='iCal-Export' link='./feed/eo
 -events' link_target='' size='small' position='center' label_display='' tit
 le_attr='' icon_select='yes' icon='ue85b' font='entypo-fontello' color='cus
 tom' custom_bg='#b5123e' custom_font='#ffffff' av_uid='' id='' custom_class
 ='' admin_preview_bg='']</p>
CATEGORIES:Recht interdisziplinär
LOCATION:Online
GEO:0.000000;0.000000
ORGANIZER;CN="ViFa-Recht":MAILTO:vifa-recht@sbb.spk-berlin.de
URL;VALUE=URI:https://events.intrecht.de/termine/termin/wither-the-power-of
 -disallowance-online-vortrag/
END:VEVENT
BEGIN:VTIMEZONE
TZID:Europe/Berlin
BEGIN:STANDARD
TZOFFSETFROM:+0200
TZOFFSETTO:+0100
DTSTART:20211031T010000
TZNAME:CET
END:STANDARD
END:VTIMEZONE
END:VCALENDAR
