BEGIN:VCALENDAR
VERSION:2.0
PRODID:-//Events | FID-Recht//NONSGML Events//EN
CALSCALE:GREGORIAN
X-ORIGINAL-URL:https://events.intrecht.de/termine/
X-WR-CALDESC:Events | FID-Recht - Events
BEGIN:VEVENT
UID:20200603T1418Z-1591193923.3362-EO-587-1@172.16.200.141
STATUS:CONFIRMED
DTSTAMP:20260422T211807Z
CREATED:20241127T082118Z
LAST-MODIFIED:20241127T082118Z
DTSTART;VALUE=DATE:20250210
DTEND;VALUE=DATE:20250211
SUMMARY: Wissenschaftsfreiheit und wehrhafte Demokratie an der Universität 
 (Hybrid Event)
DESCRIPTION: 10.2.2025 / Online und Berlin https://www.rewi.hu-berlin.de/de
 /lf/oe/lsi/diskussionsreihe-wissenschaftsfreiheit-und-wehrhafte-demokratie-
 an-der-universitaet
X-ALT-DESC;FMTTYPE=text/html: <p>10.2.2025 / Online und Berlin</p><p><a hre
 f="https://www.rewi.hu-berlin.de/de/lf/oe/lsi/diskussionsreihe-wissenschaft
 sfreiheit-und-wehrhafte-demokratie-an-der-universitaet">https://www.rewi.hu
 -berlin.de/de/lf/oe/lsi/diskussionsreihe-wissenschaftsfreiheit-und-wehrhaft
 e-demokratie-an-der-universitaet</a></p><p>[av_button label='iCal-Export' l
 ink='./feed/eo-events' link_target='' size='small' position='center' label_
 display='' title_attr='' icon_select='yes' icon='ue85b' font='entypo-fontel
 lo' color='custom' custom_bg='#b5123e' custom_font='#ffffff' av_uid='' id='
 ' custom_class='' admin_preview_bg='']</p>
CATEGORIES:Öffentliches Recht
LOCATION:Hybrid
GEO:0.000000;0.000000
ORGANIZER;CN="ViFa-Recht":MAILTO:vifa-recht@sbb.spk-berlin.de
URL;VALUE=URI:https://events.intrecht.de/termine/termin/wissenschaftsfreihe
 it-und-wehrhafte-demokratie-an-der-universitaet-hybrid-event/
END:VEVENT
BEGIN:VTIMEZONE
TZID:Europe/Berlin
BEGIN:STANDARD
TZOFFSETFROM:+0200
TZOFFSETTO:+0100
DTSTART:20241027T010000
TZNAME:CET
END:STANDARD
END:VTIMEZONE
END:VCALENDAR
