BEGIN:VCALENDAR
VERSION:2.0
PRODID:-//Events | FID-Recht//NONSGML Events//EN
CALSCALE:GREGORIAN
X-ORIGINAL-URL:https://events.intrecht.de/termine/
X-WR-CALDESC:Events | FID-Recht - Events
BEGIN:VEVENT
UID:20200603T1418Z-1591193923.3362-EO-587-1@172.16.200.141
STATUS:CONFIRMED
DTSTAMP:20260425T214354Z
CREATED:20231031T121626Z
LAST-MODIFIED:20231031T121626Z
DTSTART;VALUE=DATE:20231130
DTEND;VALUE=DATE:20231201
SUMMARY: Wissenschaftlich Publizieren in den Rechtswissenschaften (Webinar)
DESCRIPTION: 30.11.2023 / Online (Anmeldefrist: 29.11.2023) https://zoom.us
 /webinar/register/WN_O7i-3IF2RgCmIPb-BSjhhw#/registration
X-ALT-DESC;FMTTYPE=text/html: <p>30.11.2023 / Online <strong>(Anmeldefrist:
  29.11.2023)</strong></p><p><a href="https://zoom.us/webinar/register/WN_O7
 i-3IF2RgCmIPb-BSjhhw#/registration">https://zoom.us/webinar/register/WN_O7i
 -3IF2RgCmIPb-BSjhhw#/registration</a></p><p>[av_button label='iCal-Export' 
 link='./feed/eo-events' link_target='' size='small' position='center' label
 _display='' title_attr='' icon_select='yes' icon='ue85b' font='entypo-fonte
 llo' color='custom' custom_bg='#b5123e' custom_font='#ffffff' av_uid='' id=
 '' custom_class='' admin_preview_bg='']</p>
CATEGORIES:Recht interdisziplinär
LOCATION:Online
GEO:0.000000;0.000000
ORGANIZER;CN="ViFa-Recht":MAILTO:vifa-recht@sbb.spk-berlin.de
URL;VALUE=URI:https://events.intrecht.de/termine/termin/wissenschaftlich-pu
 blizieren-in-den-rechtswissenschaften-webinar-2/
END:VEVENT
BEGIN:VTIMEZONE
TZID:Europe/Berlin
BEGIN:STANDARD
TZOFFSETFROM:+0200
TZOFFSETTO:+0100
DTSTART:20231029T010000
TZNAME:CET
END:STANDARD
END:VTIMEZONE
END:VCALENDAR
