BEGIN:VCALENDAR
VERSION:2.0
PRODID:-//Events | FID-Recht//NONSGML Events//EN
CALSCALE:GREGORIAN
X-ORIGINAL-URL:https://events.intrecht.de/termine/
X-WR-CALDESC:Events | FID-Recht - Events
BEGIN:VEVENT
UID:20210221T0511Z-1613884271.434-EO-3360-1@172.16.200.141
STATUS:CONFIRMED
DTSTAMP:20260423T091338Z
CREATED:20210129T192504Z
LAST-MODIFIED:20210129T192931Z
DTSTART;VALUE=DATE:20210228
DTEND;VALUE=DATE:20210301
SUMMARY: Wir haben die Wahl! Politik in Zeiten von Unsicherheit und Autokra
 tisierung  (Online-Kongress der DVPW) (CfP)
DESCRIPTION: 14.-16.9.2021\, Online (Frist für Einreichungen: 28.2.2021) mi
 t diesen Panels des Arbeitskreises Politik und Recht: P118      Das Bundesv
 erfassungsgericht als Gegenstand politikwissenschaftlicher Forschung (Olive
 r W. Lembcke/Thomas Gawron) P138      Gestalten\, Formen und Praktiken des 
 Autoritarismus (Felix Petersen/ Verena Frick) P146      Judging Corona: The
  Tightening of Pandemic Slack-Lines in Comparison (Roland Lhotta/Henning Sc
 häckelhoff) P185      Transformation des Politischen. Neue Perspektiven […]
X-ALT-DESC;FMTTYPE=text/html: <p>14.-16.9.2021\, Online (Frist für Einreich
 ungen: 28.2.2021)</p><p>mit diesen Panels des Arbeitskreises Politik und Re
 cht:</p><ul><li>P118      Das Bundesverfassungsgericht als Gegenstand polit
 ikwissenschaftlicher Forschung (Oliver W. Lembcke/Thomas Gawron)</li><li>P1
 38      Gestalten\, Formen und Praktiken des Autoritarismus (Felix Petersen
 / Verena Frick)</li><li>P146      Judging Corona: The Tightening of Pandemi
 c Slack-Lines in Comparison (Roland Lhotta/Henning Schäckelhoff)</li><li>P1
 85      Transformation des Politischen. Neue Perspektiven der radikalen Dem
 okratietheorie (Karsten Schubert/Lucas von Ramin)</li></ul><p> </p><p><a hr
 ef="https://www.dvpw.de/fileadmin/docs/Kongress2021/CfP_Kongress2021_Abstra
 cts_2021-01-29.pdf">https://www.dvpw.de/fileadmin/docs/Kongress2021/CfP_Kon
 gress2021_Abstracts_2021-01-29.pdf</a></p><p> </p><p> </p><p>[av_button lab
 el='iCal-Export' link='./feed/eo-events' link_target='' size='small' positi
 on='center' label_display='' title_attr='' icon_select='yes' icon='ue85b' f
 ont='entypo-fontello' color='custom' custom_bg='#b5123e' custom_font='#ffff
 ff' av_uid='' id='' custom_class='' admin_preview_bg='']</p>
CATEGORIES:Recht interdisziplinär
LOCATION:Online
GEO:0.000000;0.000000
ORGANIZER;CN="ViFa-Recht":MAILTO:vifa-recht@sbb.spk-berlin.de
URL;VALUE=URI:https://events.intrecht.de/termine/termin/wir-haben-die-wahl-
 politik-in-zeiten-von-unsicherheit-und-autokratisierung-online-kongress-der
 -dvpw-cfp/
END:VEVENT
BEGIN:VTIMEZONE
TZID:Europe/Berlin
BEGIN:STANDARD
TZOFFSETFROM:+0200
TZOFFSETTO:+0100
DTSTART:20201025T010000
TZNAME:CET
END:STANDARD
END:VTIMEZONE
END:VCALENDAR
