BEGIN:VCALENDAR
VERSION:2.0
PRODID:-//Events | FID-Recht//NONSGML Events//EN
CALSCALE:GREGORIAN
X-ORIGINAL-URL:https://events.intrecht.de/termine/
X-WR-CALDESC:Events | FID-Recht - Events
BEGIN:VEVENT
UID:20221101T2351Z-1667346691.704-EO-6896-1@172.16.200.151
STATUS:CONFIRMED
DTSTAMP:20260421T115356Z
CREATED:20221031T141425Z
LAST-MODIFIED:20221031T141425Z
DTSTART;VALUE=DATE:20230206
DTEND;VALUE=DATE:20230218
SUMMARY: Winter School on Federalism and Governance
DESCRIPTION: 6.-17.2.2023 / Innsbruck and Bolzano https://voelkerrechtsblog
 .org/events/winter-school-on-federalism-and-governance/  
X-ALT-DESC;FMTTYPE=text/html: <p>6.-17.2.2023 / Innsbruck and Bolzano</p><p
 ><a href="https://voelkerrechtsblog.org/events/winter-school-on-federalism-
 and-governance/">https://voelkerrechtsblog.org/events/winter-school-on-fede
 ralism-and-governance/</a></p><p> </p><p>[av_button label='iCal-Export' lin
 k='./feed/eo-events' link_target='' size='small' position='center' label_di
 splay='' title_attr='' icon_select='yes' icon='ue85b' font='entypo-fontello
 ' color='custom' custom_bg='#b5123e' custom_font='#ffffff' av_uid='' id='' 
 custom_class='' admin_preview_bg='']</p>
CATEGORIES:Europäisches / Internationales Recht
LOCATION:Ausland
GEO:0.000000;0.000000
ORGANIZER;CN="ViFa-Recht":MAILTO:vifa-recht@sbb.spk-berlin.de
URL;VALUE=URI:https://events.intrecht.de/termine/termin/winter-school-on-fe
 deralism-and-governance/
END:VEVENT
BEGIN:VTIMEZONE
TZID:Europe/Berlin
BEGIN:STANDARD
TZOFFSETFROM:+0200
TZOFFSETTO:+0100
DTSTART:20221030T010000
TZNAME:CET
END:STANDARD
END:VTIMEZONE
END:VCALENDAR
