BEGIN:VCALENDAR
VERSION:2.0
PRODID:-//Events | FID-Recht//NONSGML Events//EN
CALSCALE:GREGORIAN
X-ORIGINAL-URL:https://events.intrecht.de/termine/
X-WR-CALDESC:Events | FID-Recht - Events
BEGIN:VEVENT
UID:20230106T1731Z-1673026305.0239-EO-7887-1@172.16.200.151
STATUS:CONFIRMED
DTSTAMP:20260421T151515Z
CREATED:20230103T094911Z
LAST-MODIFIED:20230103T094911Z
DTSTART;VALUE=DATE:20230119
DTEND;VALUE=DATE:20230120
SUMMARY: Widerstand und Selbstbehauptung von Jüdinnen und Juden im Angesich
 t der Shoah – Veranstaltung zum 81. Jahrestag der Besprechung am Wannsee vo
 m 20. Januar 1942
DESCRIPTION: 19.1.2023 / Online und Berlin https://www.ghwk.de/de/termine/t
 ermin/und-die-ganze-welt-zu-alarmieren-and-to-alarm-the-whole-world  
X-ALT-DESC;FMTTYPE=text/html: <p>19.1.2023 / Online und Berlin</p><p><a hre
 f="https://www.ghwk.de/de/termine/termin/und-die-ganze-welt-zu-alarmieren-a
 nd-to-alarm-the-whole-world">https://www.ghwk.de/de/termine/termin/und-die-
 ganze-welt-zu-alarmieren-and-to-alarm-the-whole-world</a></p><p> </p><p>[av
 _button label='iCal-Export' link='./feed/eo-events' link_target='' size='sm
 all' position='center' label_display='' title_attr='' icon_select='yes' ico
 n='ue85b' font='entypo-fontello' color='custom' custom_bg='#b5123e' custom_
 font='#ffffff' av_uid='' id='' custom_class='' admin_preview_bg='']</p>
CATEGORIES:Recht interdisziplinär
LOCATION:Online
GEO:0.000000;0.000000
ORGANIZER;CN="ViFa-Recht":MAILTO:vifa-recht@sbb.spk-berlin.de
URL;VALUE=URI:https://events.intrecht.de/termine/termin/widerstand-und-selb
 stbehauptung-von-juedinnen-und-juden-im-angesicht-der-shoah-veranstaltung-z
 um-81-jahrestag-der-besprechung-am-wannsee-vom-20-januar-1942/
END:VEVENT
BEGIN:VTIMEZONE
TZID:Europe/Berlin
BEGIN:STANDARD
TZOFFSETFROM:+0200
TZOFFSETTO:+0100
DTSTART:20221030T010000
TZNAME:CET
END:STANDARD
END:VTIMEZONE
END:VCALENDAR
