BEGIN:VCALENDAR
VERSION:2.0
PRODID:-//Events | FID-Recht//NONSGML Events//EN
CALSCALE:GREGORIAN
X-ORIGINAL-URL:https://events.intrecht.de/termine/
X-WR-CALDESC:Events | FID-Recht - Events
BEGIN:VEVENT
UID:20220203T1826Z-1643912805.696-EO-5846-1@172.16.200.141
STATUS:CONFIRMED
DTSTAMP:20260420T112712Z
CREATED:20220127T201719Z
LAST-MODIFIED:20220127T201719Z
DTSTART;VALUE=DATE:20220207
DTEND;VALUE=DATE:20220207
SUMMARY: Whose Choice\, Whose Rights? Global-Historical and Intersectional 
 Approaches to the Emergence of Reproductive Rights after 1945 (Tagung) (CfP
 )
DESCRIPTION: 9.-10.6.2022\, Chapel Hill (Frist für Einreichungen: 7.2.2022)
  Whose Choice\, Whose Rights? Global-Historical and Intersectional Approach
 es to the Emergence of Reproductive Rights after 1945 | H-Soz-Kult. Kommuni
 kation und Fachinformation für die Geschichtswissenschaften | Geschichte im
  Netz | History in the web (hsozkult.de)  
X-ALT-DESC;FMTTYPE=text/html: <p>9.-10.6.2022\, Chapel Hill (Frist für Einr
 eichungen: 7.2.2022)</p><p><a href="https://www.hsozkult.de/event/id/event-
 115257">Whose Choice\, Whose Rights? Global-Historical and Intersectional A
 pproaches to the Emergence of Reproductive Rights after 1945 | H-Soz-Kult. 
 Kommunikation und Fachinformation für die Geschichtswissenschaften | Geschi
 chte im Netz | History in the web (hsozkult.de)</a></p><p> </p><p>[av_butto
 n label='iCal-Export' link='./feed/eo-events' link_target='' size='small' p
 osition='center' label_display='' title_attr='' icon_select='yes' icon='ue8
 5b' font='entypo-fontello' color='custom' custom_bg='#b5123e' custom_font='
 #ffffff' av_uid='' id='' custom_class='' admin_preview_bg='']</p>
CATEGORIES:Europäisches / Internationales Recht
LOCATION:Ausland
GEO:0.000000;0.000000
ORGANIZER;CN="ViFa-Recht":MAILTO:vifa-recht@sbb.spk-berlin.de
URL;VALUE=URI:https://events.intrecht.de/termine/termin/whose-choice-whose-
 rights-global-historical-and-intersectional-approaches-to-the-emergence-of-
 reproductive-rights-after-1945-tagung-cfp/
END:VEVENT
BEGIN:VTIMEZONE
TZID:Europe/Berlin
BEGIN:STANDARD
TZOFFSETFROM:+0200
TZOFFSETTO:+0100
DTSTART:20211031T010000
TZNAME:CET
END:STANDARD
END:VTIMEZONE
END:VCALENDAR
