BEGIN:VCALENDAR
VERSION:2.0
PRODID:-//Events | FID-Recht//NONSGML Events//EN
CALSCALE:GREGORIAN
X-ORIGINAL-URL:https://events.intrecht.de/termine/
X-WR-CALDESC:Events | FID-Recht - Events
BEGIN:VEVENT
UID:20200603T1418Z-1591193923.3362-EO-587-1@172.16.200.141
STATUS:CONFIRMED
DTSTAMP:20260422T213054Z
CREATED:20240816T104641Z
LAST-MODIFIED:20240816T104641Z
DTSTART;VALUE=DATE:20240910
DTEND;VALUE=DATE:20240911
SUMMARY: Who is Family Law for? Exploring Legal Approaches to Family Divers
 ity (Online Event)
DESCRIPTION: 10.9.2024 / Online https://www.durham.ac.uk/departments/academ
 ic/law/news-and-events/events/2024/september/special-issue-digital-launch/
X-ALT-DESC;FMTTYPE=text/html: <p>10.9.2024 / Online</p><p><a href="https://
 www.durham.ac.uk/departments/academic/law/news-and-events/events/2024/septe
 mber/special-issue-digital-launch/">https://www.durham.ac.uk/departments/ac
 ademic/law/news-and-events/events/2024/september/special-issue-digital-laun
 ch/</a></p><p>[av_button label='iCal-Export' link='./feed/eo-events' link_t
 arget='' size='small' position='center' label_display='' title_attr='' icon
 _select='yes' icon='ue85b' font='entypo-fontello' color='custom' custom_bg=
 '#b5123e' custom_font='#ffffff' av_uid='' id='' custom_class='' admin_previ
 ew_bg='']</p>
CATEGORIES:Recht interdisziplinär
LOCATION:Online
GEO:0.000000;0.000000
ORGANIZER;CN="ViFa-Recht":MAILTO:vifa-recht@sbb.spk-berlin.de
URL;VALUE=URI:https://events.intrecht.de/termine/termin/who-is-family-law-f
 or-exploring-legal-approaches-to-family-diversity-online-event/
END:VEVENT
BEGIN:VTIMEZONE
TZID:Europe/Berlin
BEGIN:DAYLIGHT
TZOFFSETFROM:+0100
TZOFFSETTO:+0200
DTSTART:20240331T010000
TZNAME:CEST
END:DAYLIGHT
END:VTIMEZONE
END:VCALENDAR
