BEGIN:VCALENDAR
VERSION:2.0
PRODID:-//Events | FID-Recht//NONSGML Events//EN
CALSCALE:GREGORIAN
X-ORIGINAL-URL:https://events.intrecht.de/termine/
X-WR-CALDESC:Events | FID-Recht - Events
BEGIN:VEVENT
UID:20220311T2108Z-1647032934.5695-EO-5799-1@172.16.200.141
STATUS:CONFIRMED
DTSTAMP:20260422T193901Z
CREATED:20220308T204540Z
LAST-MODIFIED:20220308T204540Z
DTSTART;VALUE=DATE:20220310
DTEND;VALUE=DATE:20220311
SUMMARY: What Measures Should the EU Adopt to Enhance the Protection of Adu
 lts in Europe? (Webinar)
DESCRIPTION: 10.3.2022\, Online (Anmeldefrist: 9.3.2022) What Measures Shou
 ld the EU Adopt to Enhance the Protection of Adults in Europe? – EAPIL    
X-ALT-DESC;FMTTYPE=text/html: <p>10.3.2022\, Online (Anmeldefrist: 9.3.2022
 )</p><p><a href="https://eapil.org/2022/03/01/what-measures-should-the-eu-a
 dopt-to-enhance-the-protection-of-adults-in-europe/">What Measures Should t
 he EU Adopt to Enhance the Protection of Adults in Europe? – EAPIL</a></p><
 p> </p><p> </p><p>[av_button label='iCal-Export' link='./feed/eo-events' li
 nk_target='' size='small' position='center' label_display='' title_attr='' 
 icon_select='yes' icon='ue85b' font='entypo-fontello' color='custom' custom
 _bg='#b5123e' custom_font='#ffffff' av_uid='' id='' custom_class='' admin_p
 review_bg='']</p>
CATEGORIES:Europäisches / Internationales Recht,Zivilrecht
LOCATION:Online
GEO:0.000000;0.000000
ORGANIZER;CN="ViFa-Recht":MAILTO:vifa-recht@sbb.spk-berlin.de
URL;VALUE=URI:https://events.intrecht.de/termine/termin/what-measures-shoul
 d-the-eu-adopt-to-enhance-the-protection-of-adults-in-europe-webinar/
END:VEVENT
BEGIN:VTIMEZONE
TZID:Europe/Berlin
BEGIN:STANDARD
TZOFFSETFROM:+0200
TZOFFSETTO:+0100
DTSTART:20211031T010000
TZNAME:CET
END:STANDARD
END:VTIMEZONE
END:VCALENDAR
