BEGIN:VCALENDAR
VERSION:2.0
PRODID:-//Events | FID-Recht//NONSGML Events//EN
CALSCALE:GREGORIAN
X-ORIGINAL-URL:https://events.intrecht.de/termine/
X-WR-CALDESC:Events | FID-Recht - Events
BEGIN:VEVENT
UID:20201010T1941Z-1602358910.7796-EO-1283-1@172.16.200.141
STATUS:CONFIRMED
DTSTAMP:20260422T160850Z
CREATED:20201007T133828Z
LAST-MODIFIED:20201007T133828Z
DTSTART;VALUE=DATE:20201007
DTEND;VALUE=DATE:20201007
SUMMARY: What is EU Relations Law? The Legal Ecosystem of Brexit (Webinar)
DESCRIPTION: 7.10.2020\, Online https://www.cels.law.cam.ac.uk/press/events
 /2020/10/monckton-faculty-law-webinar-series-eu-relations-law-what-eu-relat
 ions-law-legal-ecosystem-brexit  
X-ALT-DESC;FMTTYPE=text/html: <p>7.10.2020\, Online</p><p><a href="https://
 www.cels.law.cam.ac.uk/press/events/2020/10/monckton-faculty-law-webinar-se
 ries-eu-relations-law-what-eu-relations-law-legal-ecosystem-brexit">https:/
 /www.cels.law.cam.ac.uk/press/events/2020/10/monckton-faculty-law-webinar-s
 eries-eu-relations-law-what-eu-relations-law-legal-ecosystem-brexit</a></p>
 <p> </p><p>[av_button label='iCal-Export' link='./feed/eo-events' link_targ
 et='' size='small' position='center' label_display='' title_attr='' icon_se
 lect='yes' icon='ue85b' font='entypo-fontello' color='custom' custom_bg='#b
 5123e' custom_font='#ffffff' av_uid='' id='' custom_class='' admin_preview_
 bg='']</p>
CATEGORIES:Europäisches / Internationales Recht
LOCATION:Online
GEO:0.000000;0.000000
ORGANIZER;CN="ViFa-Recht":MAILTO:vifa-recht@sbb.spk-berlin.de
URL;VALUE=URI:https://events.intrecht.de/termine/termin/what-is-eu-relation
 s-law-the-legal-ecosystem-of-brexit-webinar/
END:VEVENT
BEGIN:VTIMEZONE
TZID:Europe/Berlin
BEGIN:DAYLIGHT
TZOFFSETFROM:+0100
TZOFFSETTO:+0200
DTSTART:20200329T010000
TZNAME:CEST
END:DAYLIGHT
END:VTIMEZONE
END:VCALENDAR
