BEGIN:VCALENDAR
VERSION:2.0
PRODID:-//Events | FID-Recht//NONSGML Events//EN
CALSCALE:GREGORIAN
X-ORIGINAL-URL:https://events.intrecht.de/termine/
X-WR-CALDESC:Events | FID-Recht - Events
BEGIN:VEVENT
UID:20200709T1353Z-1594302804.3479-EO-1212-1@172.16.200.141
STATUS:CONFIRMED
DTSTAMP:20260422T112146Z
CREATED:20200708T180829Z
LAST-MODIFIED:20200708T180902Z
DTSTART;VALUE=DATE:20201031
DTEND;VALUE=DATE:20201031
SUMMARY: Wetzlarer Preis für Forschungen zur Justizgeschichte 2021 (Call)
DESCRIPTION: Einsendeschluss: 31.10.2020 https://blognetzwerkreichsgerichts
 barkeit.files.wordpress.com/2020/05/ausschreibung-preis-2021.pdf  
X-ALT-DESC;FMTTYPE=text/html: <p>Einsendeschluss: 31.10.2020</p><p><a href=
 "https://blognetzwerkreichsgerichtsbarkeit.files.wordpress.com/2020/05/auss
 chreibung-preis-2021.pdf">https://blognetzwerkreichsgerichtsbarkeit.files.w
 ordpress.com/2020/05/ausschreibung-preis-2021.pdf</a></p><p> </p><p>[av_but
 ton label='iCal-Export' link='./feed/eo-events' link_target='' size='small'
  position='center' label_display='' title_attr='' icon_select='yes' icon='u
 e85b' font='entypo-fontello' color='custom' custom_bg='#b5123e' custom_font
 ='#ffffff' av_uid='' id='' custom_class='' admin_preview_bg='']</p>
CATEGORIES:Recht interdisziplinär
LOCATION:Online
GEO:0.000000;0.000000
ORGANIZER;CN="ViFa-Recht":MAILTO:vifa-recht@sbb.spk-berlin.de
URL;VALUE=URI:https://events.intrecht.de/termine/termin/wetzlarer-preis-fue
 r-forschungen-zur-justizgeschichte-2021-call/
END:VEVENT
BEGIN:VTIMEZONE
TZID:Europe/Berlin
BEGIN:STANDARD
TZOFFSETFROM:+0200
TZOFFSETTO:+0100
DTSTART:20201025T010000
TZNAME:CET
END:STANDARD
END:VTIMEZONE
END:VCALENDAR
