BEGIN:VCALENDAR
VERSION:2.0
PRODID:-//Events | FID-Recht//NONSGML Events//EN
CALSCALE:GREGORIAN
X-ORIGINAL-URL:https://events.intrecht.de/termine/
X-WR-CALDESC:Events | FID-Recht - Events
BEGIN:VEVENT
UID:20210302T1057Z-1614682674.7554-EO-3486-1@172.16.200.141
STATUS:CONFIRMED
DTSTAMP:20260421T151716Z
CREATED:20210219T134754Z
LAST-MODIFIED:20210219T134754Z
DTSTART;VALUE=DATE:20210301
DTEND;VALUE=DATE:20210301
SUMMARY: #Wetoo (with Kimberly Kessler Ferzan) (Online-Vortrag)
DESCRIPTION: 1.3.2021\, Online https://oxjuris.com/seminars/  
X-ALT-DESC;FMTTYPE=text/html: <p>1.3.2021\, Online</p><p><a href="https://o
 xjuris.com/seminars/">https://oxjuris.com/seminars/</a></p><p> </p><p>[av_b
 utton label='iCal-Export' link='./feed/eo-events' link_target='' size='smal
 l' position='center' label_display='' title_attr='' icon_select='yes' icon=
 'ue85b' font='entypo-fontello' color='custom' custom_bg='#b5123e' custom_fo
 nt='#ffffff' av_uid='' id='' custom_class='' admin_preview_bg='']</p>
CATEGORIES:Öffentliches Recht
LOCATION:Online
GEO:0.000000;0.000000
ORGANIZER;CN="ViFa-Recht":MAILTO:vifa-recht@sbb.spk-berlin.de
URL;VALUE=URI:https://events.intrecht.de/termine/termin/wetoo-with-kimberly
 -kessler-ferzan-online-vortrag-2/
END:VEVENT
BEGIN:VTIMEZONE
TZID:Europe/Berlin
BEGIN:STANDARD
TZOFFSETFROM:+0200
TZOFFSETTO:+0100
DTSTART:20201025T010000
TZNAME:CET
END:STANDARD
END:VTIMEZONE
END:VCALENDAR
