BEGIN:VCALENDAR
VERSION:2.0
PRODID:-//Events | FID-Recht//NONSGML Events//EN
CALSCALE:GREGORIAN
X-ORIGINAL-URL:https://events.intrecht.de/termine/
X-WR-CALDESC:Events | FID-Recht - Events
BEGIN:VEVENT
UID:20200603T1418Z-1591193923.3362-EO-587-1@172.16.200.141
STATUS:CONFIRMED
DTSTAMP:20260422T125326Z
CREATED:20240411T161519Z
LAST-MODIFIED:20240411T161519Z
DTSTART;VALUE=DATE:20240527
DTEND;VALUE=DATE:20240528
SUMMARY: Wessen Würde und Vernunft? Zum Umgang mit Immanuel Kant (Hybrid Ev
 ent / Provenienz des Rechts: Zum Umgang mit Antisemitismus\, Rassismus und 
 Sexismus im juristischen Wissen)
DESCRIPTION: 27.5.2024 / Online und Berlin https://www.rewi.hu-berlin.de/de
 /lf/oe/lsi/wessen-wuerde-und-vernunft-zum-umgang-mit-immanuel-kant
X-ALT-DESC;FMTTYPE=text/html: <p>27.5.2024 / Online und Berlin</p><p><a hre
 f="https://www.rewi.hu-berlin.de/de/lf/oe/lsi/wessen-wuerde-und-vernunft-zu
 m-umgang-mit-immanuel-kant">https://www.rewi.hu-berlin.de/de/lf/oe/lsi/wess
 en-wuerde-und-vernunft-zum-umgang-mit-immanuel-kant</a></p><p>[av_button la
 bel='iCal-Export' link='./feed/eo-events' link_target='' size='small' posit
 ion='center' label_display='' title_attr='' icon_select='yes' icon='ue85b' 
 font='entypo-fontello' color='custom' custom_bg='#b5123e' custom_font='#fff
 fff' av_uid='' id='' custom_class='' admin_preview_bg='']</p>
CATEGORIES:Recht interdisziplinär
LOCATION:Hybrid
GEO:0.000000;0.000000
ORGANIZER;CN="ViFa-Recht":MAILTO:vifa-recht@sbb.spk-berlin.de
URL;VALUE=URI:https://events.intrecht.de/termine/termin/wessen-wuerde-und-v
 ernunft-zum-umgang-mit-immanuel-kant-hybrid-event-provenienz-des-rechts-zum
 -umgang-mit-antisemitismus-rassismus-und-sexismus-im-juristischen-wissen/
END:VEVENT
BEGIN:VTIMEZONE
TZID:Europe/Berlin
BEGIN:DAYLIGHT
TZOFFSETFROM:+0100
TZOFFSETTO:+0200
DTSTART:20240331T010000
TZNAME:CEST
END:DAYLIGHT
END:VTIMEZONE
END:VCALENDAR
