BEGIN:VCALENDAR
VERSION:2.0
PRODID:-//Events | FID-Recht//NONSGML Events//EN
CALSCALE:GREGORIAN
X-ORIGINAL-URL:https://events.intrecht.de/termine/
X-WR-CALDESC:Events | FID-Recht - Events
BEGIN:VEVENT
UID:20200603T1418Z-1591193923.3362-EO-587-1@172.16.200.141
STATUS:CONFIRMED
DTSTAMP:20260422T141713Z
CREATED:20240508T064353Z
LAST-MODIFIED:20240508T064353Z
DTSTART;VALUE=DATE:20240620
DTEND;VALUE=DATE:20240621
SUMMARY: Wessen Freiheit und Gleichheit? Zum Umgang mit Georg W.F. Hegel (H
 ybrid Event / Reihe Provenienz des Rechts: Zum Umgang mit Antisemitismus\, 
 Rassismus und Sexismus im juristischen Wissen)
DESCRIPTION: 20.6.2024 / Online und Berlin https://www.rewi.hu-berlin.de/de
 /lf/oe/lsi/wessen-freiheit-und-gleichheit-zum-umgang-mit-georg-w-f-hegel
X-ALT-DESC;FMTTYPE=text/html: <p>20.6.2024 / Online und Berlin</p><p><a hre
 f="https://www.rewi.hu-berlin.de/de/lf/oe/lsi/wessen-freiheit-und-gleichhei
 t-zum-umgang-mit-georg-w-f-hegel">https://www.rewi.hu-berlin.de/de/lf/oe/ls
 i/wessen-freiheit-und-gleichheit-zum-umgang-mit-georg-w-f-hegel</a></p><p>[
 av_button label='iCal-Export' link='./feed/eo-events' link_target='' size='
 small' position='center' label_display='' title_attr='' icon_select='yes' i
 con='ue85b' font='entypo-fontello' color='custom' custom_bg='#b5123e' custo
 m_font='#ffffff' av_uid='' id='' custom_class='' admin_preview_bg='']</p>
CATEGORIES:Recht interdisziplinär
LOCATION:Hybrid
GEO:0.000000;0.000000
ORGANIZER;CN="ViFa-Recht":MAILTO:vifa-recht@sbb.spk-berlin.de
URL;VALUE=URI:https://events.intrecht.de/termine/termin/wessen-freiheit-und
 -gleichheit-zum-umgang-mit-georg-w-f-hegel-hybrid-event-reihe-provenienz-de
 s-rechts-zum-umgang-mit-antisemitismus-rassismus-und-sexismus-im-juristisch
 en-wissen/
END:VEVENT
BEGIN:VTIMEZONE
TZID:Europe/Berlin
BEGIN:DAYLIGHT
TZOFFSETFROM:+0100
TZOFFSETTO:+0200
DTSTART:20240331T010000
TZNAME:CEST
END:DAYLIGHT
END:VTIMEZONE
END:VCALENDAR
