BEGIN:VCALENDAR
VERSION:2.0
PRODID:-//Events | FID-Recht//NONSGML Events//EN
CALSCALE:GREGORIAN
X-ORIGINAL-URL:https://events.intrecht.de/termine/
X-WR-CALDESC:Events | FID-Recht - Events
BEGIN:VEVENT
UID:20200603T1418Z-1591193923.3362-EO-587-1@172.16.200.141
STATUS:CONFIRMED
DTSTAMP:20260422T141714Z
CREATED:20240508T064737Z
LAST-MODIFIED:20240508T064737Z
DTSTART;VALUE=DATE:20240626
DTEND;VALUE=DATE:20240627
SUMMARY: Wessen Eigentum und Besitz? Zum Umgang mit Friedrich Carl von Savi
 gny (Hybrid Event / Reihe Provenienz des Rechts: Zum Umgang mit Antisemitis
 mus\, Rassismus und Sexismus im juristischen Wissen)
DESCRIPTION: 26.6.2024 / Online und Berlin https://www.rewi.hu-berlin.de/de
 /lf/oe/lsi/provenienz-reihe-wessen-eigentum-und-besitz-zum-umgang-mit-fried
 rich-carl-von-savigny
X-ALT-DESC;FMTTYPE=text/html: <p>26.6.2024 / Online und Berlin</p><p><a hre
 f="https://www.rewi.hu-berlin.de/de/lf/oe/lsi/provenienz-reihe-wessen-eigen
 tum-und-besitz-zum-umgang-mit-friedrich-carl-von-savigny">https://www.rewi.
 hu-berlin.de/de/lf/oe/lsi/provenienz-reihe-wessen-eigentum-und-besitz-zum-u
 mgang-mit-friedrich-carl-von-savigny</a></p><p>[av_button label='iCal-Expor
 t' link='./feed/eo-events' link_target='' size='small' position='center' la
 bel_display='' title_attr='' icon_select='yes' icon='ue85b' font='entypo-fo
 ntello' color='custom' custom_bg='#b5123e' custom_font='#ffffff' av_uid='' 
 id='' custom_class='' admin_preview_bg='']</p>
CATEGORIES:Recht interdisziplinär
LOCATION:Hybrid
GEO:0.000000;0.000000
ORGANIZER;CN="ViFa-Recht":MAILTO:vifa-recht@sbb.spk-berlin.de
URL;VALUE=URI:https://events.intrecht.de/termine/termin/wessen-eigentum-und
 -besitz-zum-umgang-mit-friedrich-carl-von-savigny-hybrid-event-reihe-proven
 ienz-des-rechts-zum-umgang-mit-antisemitismus-rassismus-und-sexismus-im-jur
 istischen-wissen/
END:VEVENT
BEGIN:VTIMEZONE
TZID:Europe/Berlin
BEGIN:DAYLIGHT
TZOFFSETFROM:+0100
TZOFFSETTO:+0200
DTSTART:20240331T010000
TZNAME:CEST
END:DAYLIGHT
END:VTIMEZONE
END:VCALENDAR
