BEGIN:VCALENDAR
VERSION:2.0
PRODID:-//Events | FID-Recht//NONSGML Events//EN
CALSCALE:GREGORIAN
X-ORIGINAL-URL:https://events.intrecht.de/termine/
X-WR-CALDESC:Events | FID-Recht - Events
BEGIN:VEVENT
UID:20201216T1509Z-1608131366.7541-EO-1883-1@172.16.200.141
STATUS:CONFIRMED
DTSTAMP:20260421T184402Z
CREATED:20201012T190102Z
LAST-MODIFIED:20201012T190102Z
DTSTART;VALUE=DATE:20210108
DTEND;VALUE=DATE:20210108
SUMMARY: Wer spricht internationales Recht? (AjV-DGIR Tagung 2021) (Call fo
 r Papers)
DESCRIPTION: 3.-4.9.2021\, Bonn (Frist für Einreichungen: 8.1.2021) https:/
 /www.jura.uni-bonn.de/institut-fuer-voelkerrecht/ajv-dgir-tagung-2021/     
    
X-ALT-DESC;FMTTYPE=text/html: <p>3.-4.9.2021\, Bonn (Frist für Einreichunge
 n: 8.1.2021)</p><p><a href="https://www.jura.uni-bonn.de/institut-fuer-voel
 kerrecht/ajv-dgir-tagung-2021/">https://www.jura.uni-bonn.de/institut-fuer-
 voelkerrecht/ajv-dgir-tagung-2021/</a></p><p> </p><p> </p><p> </p><p> </p><
 p>[av_button label='iCal-Export' link='./feed/eo-events' link_target='' siz
 e='small' position='center' label_display='' title_attr='' icon_select='yes
 ' icon='ue85b' font='entypo-fontello' color='custom' custom_bg='#b5123e' cu
 stom_font='#ffffff' av_uid='' id='' custom_class='' admin_preview_bg='']</p
 >
CATEGORIES:Europäisches / Internationales Recht
LOCATION:Inland
GEO:0.000000;0.000000
ORGANIZER;CN="ViFa-Recht":MAILTO:vifa-recht@sbb.spk-berlin.de
URL;VALUE=URI:https://events.intrecht.de/termine/termin/wer-spricht-interna
 tionales-recht-ajv-dgir-tagung-2021-call-for-papers/
END:VEVENT
BEGIN:VTIMEZONE
TZID:Europe/Berlin
BEGIN:STANDARD
TZOFFSETFROM:+0200
TZOFFSETTO:+0100
DTSTART:20201025T010000
TZNAME:CET
END:STANDARD
END:VTIMEZONE
END:VCALENDAR
