BEGIN:VCALENDAR
VERSION:2.0
PRODID:-//Events | FID-Recht//NONSGML Events//EN
CALSCALE:GREGORIAN
X-ORIGINAL-URL:https://events.intrecht.de/termine/
X-WR-CALDESC:Events | FID-Recht - Events
BEGIN:VEVENT
UID:20200603T1418Z-1591193923.3362-EO-587-1@172.16.200.141
STATUS:CONFIRMED
DTSTAMP:20260422T225938Z
CREATED:20250513T133447Z
LAST-MODIFIED:20250513T133447Z
DTSTART;VALUE=DATE:20250520
DTEND;VALUE=DATE:20250521
SUMMARY: Wer sorgt für Schutz und Teilhabe von Kindern in der EU-Plattformö
 konomie? (Hybrid Event / Family Law At Four)
DESCRIPTION: 20.5.2025 / Online und Hamburg https://events.mpipriv.de/b?p=f
 amily_law_at_four_mit__katharina_kaesling
X-ALT-DESC;FMTTYPE=text/html: <p>20.5.2025 / Online und Hamburg</p><p><a hr
 ef="https://events.mpipriv.de/b?p=family_law_at_four_mit__katharina_kaeslin
 g">https://events.mpipriv.de/b?p=family_law_at_four_mit__katharina_kaesling
 </a></p><p>[av_button label='iCal-Export' link='./feed/eo-events' link_targ
 et='' size='small' position='center' label_display='' title_attr='' icon_se
 lect='yes' icon='ue85b' font='entypo-fontello' color='custom' custom_bg='#b
 5123e' custom_font='#ffffff' av_uid='' id='' custom_class='' admin_preview_
 bg='']</p>
CATEGORIES:Zivilrecht
LOCATION:Hybrid
GEO:0.000000;0.000000
ORGANIZER;CN="ViFa-Recht":MAILTO:vifa-recht@sbb.spk-berlin.de
URL;VALUE=URI:https://events.intrecht.de/termine/termin/wer-sorgt-fuer-schu
 tz-und-teilhabe-von-kindern-in-der-eu-plattformoekonomie-hybrid-event-famil
 y-law-at-four/
END:VEVENT
BEGIN:VTIMEZONE
TZID:Europe/Berlin
BEGIN:DAYLIGHT
TZOFFSETFROM:+0100
TZOFFSETTO:+0200
DTSTART:20250330T010000
TZNAME:CEST
END:DAYLIGHT
END:VTIMEZONE
END:VCALENDAR
