BEGIN:VCALENDAR
VERSION:2.0
PRODID:-//Events | FID-Recht//NONSGML Events//EN
CALSCALE:GREGORIAN
X-ORIGINAL-URL:https://events.intrecht.de/termine/
X-WR-CALDESC:Events | FID-Recht - Events
BEGIN:VEVENT
UID:20200603T1418Z-1591193923.3362-EO-587-1@172.16.200.141
STATUS:CONFIRMED
DTSTAMP:20260423T083436Z
CREATED:20230313T082745Z
LAST-MODIFIED:20230313T082745Z
DTSTART;VALUE=DATE:20230320
DTEND;VALUE=DATE:20230321
SUMMARY: Wer gehört zu Deutschland? Diskussion zum Staatsangehörigkeitsrech
 t und seiner Reform durch die Ampelkoalition (Diskussion)
DESCRIPTION: 20.3.2023 / Online und Frankfurt am Main (Livestream unter htt
 ps://www.rz.uni-frankfurt.de/live) https://www.jura.uni-frankfurt.de/132691
 000.pdf
X-ALT-DESC;FMTTYPE=text/html: <p>20.3.2023 / Online und Frankfurt am Main</
 p><p>(Livestream unter <a href="https://www.rz.uni-frankfurt.de/live">https
 ://www.rz.uni-frankfurt.de/live</a>)</p><p><a href="https://www.jura.uni-fr
 ankfurt.de/132691000.pdf">https://www.jura.uni-frankfurt.de/132691000.pdf</
 a></p><p>[av_button label='iCal-Export' link='./feed/eo-events' link_target
 ='' size='small' position='center' label_display='' title_attr='' icon_sele
 ct='yes' icon='ue85b' font='entypo-fontello' color='custom' custom_bg='#b51
 23e' custom_font='#ffffff' av_uid='' id='' custom_class='' admin_preview_bg
 ='']</p>
CATEGORIES:Öffentliches Recht
LOCATION:Online
GEO:0.000000;0.000000
ORGANIZER;CN="ViFa-Recht":MAILTO:vifa-recht@sbb.spk-berlin.de
URL;VALUE=URI:https://events.intrecht.de/termine/termin/wer-gehoert-zu-deut
 schland-diskussion-zum-staatsangehoerigkeitsrecht-und-seiner-reform-durch-d
 ie-ampelkoalition-diskussion/
END:VEVENT
BEGIN:VTIMEZONE
TZID:Europe/Berlin
BEGIN:STANDARD
TZOFFSETFROM:+0200
TZOFFSETTO:+0100
DTSTART:20221030T010000
TZNAME:CET
END:STANDARD
END:VTIMEZONE
END:VCALENDAR
