BEGIN:VCALENDAR
VERSION:2.0
PRODID:-//Events | FID-Recht//NONSGML Events//EN
CALSCALE:GREGORIAN
X-ORIGINAL-URL:https://events.intrecht.de/termine/
X-WR-CALDESC:Events | FID-Recht - Events
BEGIN:VEVENT
UID:20200603T1418Z-1591193923.3362-EO-587-1@172.16.200.141
STATUS:CONFIRMED
DTSTAMP:20260422T173738Z
CREATED:20241111T090254Z
LAST-MODIFIED:20241111T090254Z
DTSTART;VALUE=DATE:20241111
DTEND;VALUE=DATE:20241112
SUMMARY: „Wehrhafte Demokratie“ – was ist das eigentlich? (Hybrid Event)
DESCRIPTION: 11.11.2024 / Online und Berlin https://www.rewi.hu-berlin.de/d
 e/lf/oe/lsi/diskussionsreihe-wehrhafte-demokratie-was-ist-das-eigentlich
X-ALT-DESC;FMTTYPE=text/html: <p>11.11.2024 / Online und Berlin</p><p><a hr
 ef="https://www.rewi.hu-berlin.de/de/lf/oe/lsi/diskussionsreihe-wehrhafte-d
 emokratie-was-ist-das-eigentlich">https://www.rewi.hu-berlin.de/de/lf/oe/ls
 i/diskussionsreihe-wehrhafte-demokratie-was-ist-das-eigentlich</a></p><p>[a
 v_button label='iCal-Export' link='./feed/eo-events' link_target='' size='s
 mall' position='center' label_display='' title_attr='' icon_select='yes' ic
 on='ue85b' font='entypo-fontello' color='custom' custom_bg='#b5123e' custom
 _font='#ffffff' av_uid='' id='' custom_class='' admin_preview_bg='']</p>
CATEGORIES:Recht interdisziplinär
LOCATION:Hybrid
GEO:0.000000;0.000000
ORGANIZER;CN="ViFa-Recht":MAILTO:vifa-recht@sbb.spk-berlin.de
URL;VALUE=URI:https://events.intrecht.de/termine/termin/wehrhafte-demokrati
 e-was-ist-das-eigentlich-hybrid-event/
END:VEVENT
BEGIN:VTIMEZONE
TZID:Europe/Berlin
BEGIN:STANDARD
TZOFFSETFROM:+0200
TZOFFSETTO:+0100
DTSTART:20241027T010000
TZNAME:CET
END:STANDARD
END:VTIMEZONE
END:VCALENDAR
