BEGIN:VCALENDAR
VERSION:2.0
PRODID:-//Events | FID-Recht//NONSGML Events//EN
CALSCALE:GREGORIAN
X-ORIGINAL-URL:https://events.intrecht.de/termine/
X-WR-CALDESC:Events | FID-Recht - Events
BEGIN:VEVENT
UID:20200603T1418Z-1591193923.3362-EO-587-1@172.16.200.141
STATUS:CONFIRMED
DTSTAMP:20260423T091129Z
CREATED:20240314T094519Z
LAST-MODIFIED:20240314T094519Z
DTSTART;VALUE=DATE:20240417
DTEND;VALUE=DATE:20240418
SUMMARY: Wehrhafte Demokratie vor aktuellen Herausforderungen (Podiumsdisku
 ssion)
DESCRIPTION: 17.4.2024 / Potsdam (Anmeldefrist: 12.4.2024) https://www.uni-
 potsdam.de/fileadmin/projects/jura/Dokumente/Kalender/%E2%80%9EWEHRHAFTE_DE
 MOKRATIE_VOR_AKTUELLEN_HERAUSFORDERUNGEN_/Wehrhafte_Demokratie_17-04-2024_P
 lakat_ver_01.pdf
X-ALT-DESC;FMTTYPE=text/html: <p>17.4.2024 / Potsdam <strong>(Anmeldefrist:
  12.4.2024)</strong></p><p><a href="https://www.uni-potsdam.de/fileadmin/pr
 ojects/jura/Dokumente/Kalender/%E2%80%9EWEHRHAFTE_DEMOKRATIE_VOR_AKTUELLEN_
 HERAUSFORDERUNGEN_/Wehrhafte_Demokratie_17-04-2024_Plakat_ver_01.pdf">https
 ://www.uni-potsdam.de/fileadmin/projects/jura/Dokumente/Kalender/%E2%80%9EW
 EHRHAFTE_DEMOKRATIE_VOR_AKTUELLEN_HERAUSFORDERUNGEN_/Wehrhafte_Demokratie_1
 7-04-2024_Plakat_ver_01.pdf</a></p><p>[av_button label='iCal-Export' link='
 ./feed/eo-events' link_target='' size='small' position='center' label_displ
 ay='' title_attr='' icon_select='yes' icon='ue85b' font='entypo-fontello' c
 olor='custom' custom_bg='#b5123e' custom_font='#ffffff' av_uid='' id='' cus
 tom_class='' admin_preview_bg='']</p>
CATEGORIES:Recht interdisziplinär
LOCATION:Inland
GEO:0.000000;0.000000
ORGANIZER;CN="ViFa-Recht":MAILTO:vifa-recht@sbb.spk-berlin.de
URL;VALUE=URI:https://events.intrecht.de/termine/termin/wehrhafte-demokrati
 e-vor-aktuellen-herausforderungen-podiumsdiskussion/
END:VEVENT
BEGIN:VTIMEZONE
TZID:Europe/Berlin
BEGIN:DAYLIGHT
TZOFFSETFROM:+0100
TZOFFSETTO:+0200
DTSTART:20240331T010000
TZNAME:CEST
END:DAYLIGHT
END:VTIMEZONE
END:VCALENDAR
