BEGIN:VCALENDAR
VERSION:2.0
PRODID:-//Events | FID-Recht//NONSGML Events//EN
CALSCALE:GREGORIAN
X-ORIGINAL-URL:https://events.intrecht.de/termine/
X-WR-CALDESC:Events | FID-Recht - Events
BEGIN:VEVENT
UID:20200603T1418Z-1591193923.3362-EO-587-1@172.16.200.141
STATUS:CONFIRMED
DTSTAMP:20260422T154343Z
CREATED:20240523T162917Z
LAST-MODIFIED:20240523T162917Z
DTSTART;VALUE=DATE:20240607
DTEND;VALUE=DATE:20240608
SUMMARY: Webinar to introduce to Working Group ‘Comparative Studies of the 
 Legal Profession’
DESCRIPTION: 7.6.2024 / Online https://voelkerrechtsblog.org/de/events/webi
 nar-to-introduce-to-working-group-comparative-studies-of-the-legal-professi
 on-with-avrom-sherr-university-of-warwick-and-hilary-sommerlad-university-o
 r-leeds/
X-ALT-DESC;FMTTYPE=text/html: <p>7.6.2024 / Online</p><p><a href="https://v
 oelkerrechtsblog.org/de/events/webinar-to-introduce-to-working-group-compar
 ative-studies-of-the-legal-profession-with-avrom-sherr-university-of-warwic
 k-and-hilary-sommerlad-university-or-leeds/">https://voelkerrechtsblog.org/
 de/events/webinar-to-introduce-to-working-group-comparative-studies-of-the-
 legal-profession-with-avrom-sherr-university-of-warwick-and-hilary-sommerla
 d-university-or-leeds/</a></p><p>[av_button label='iCal-Export' link='./fee
 d/eo-events' link_target='' size='small' position='center' label_display=''
  title_attr='' icon_select='yes' icon='ue85b' font='entypo-fontello' color=
 'custom' custom_bg='#b5123e' custom_font='#ffffff' av_uid='' id='' custom_c
 lass='' admin_preview_bg='']</p>
CATEGORIES:Recht interdisziplinär
LOCATION:Online
GEO:0.000000;0.000000
ORGANIZER;CN="ViFa-Recht":MAILTO:vifa-recht@sbb.spk-berlin.de
URL;VALUE=URI:https://events.intrecht.de/termine/termin/webinar-to-introduc
 e-to-working-group-comparative-studies-of-the-legal-profession/
END:VEVENT
BEGIN:VTIMEZONE
TZID:Europe/Berlin
BEGIN:DAYLIGHT
TZOFFSETFROM:+0100
TZOFFSETTO:+0200
DTSTART:20240331T010000
TZNAME:CEST
END:DAYLIGHT
END:VTIMEZONE
END:VCALENDAR
