BEGIN:VCALENDAR
VERSION:2.0
PRODID:-//Events | FID-Recht//NONSGML Events//EN
CALSCALE:GREGORIAN
X-ORIGINAL-URL:https://events.intrecht.de/termine/
X-WR-CALDESC:Events | FID-Recht - Events
BEGIN:VEVENT
UID:20200603T1418Z-1591193923.3362-EO-587-1@172.16.200.141
STATUS:CONFIRMED
DTSTAMP:20260422T223934Z
CREATED:20240229T113306Z
LAST-MODIFIED:20240229T113306Z
DTSTART;VALUE=DATE:20240320
DTEND;VALUE=DATE:20240321
SUMMARY: Webinar: Access to climate / environmental justice from a decoloni
 al perspective
DESCRIPTION: 20.3.2024 / Online https://www.legalscholars.ac.uk/event/webin
 ar-access-to-climate-environmental-justice-from-a-decolonial-perspective/
X-ALT-DESC;FMTTYPE=text/html: <p>20.3.2024 / Online</p><p><a href="https://
 www.legalscholars.ac.uk/event/webinar-access-to-climate-environmental-justi
 ce-from-a-decolonial-perspective/">https://www.legalscholars.ac.uk/event/we
 binar-access-to-climate-environmental-justice-from-a-decolonial-perspective
 /</a></p><p>[av_button label='iCal-Export' link='./feed/eo-events' link_tar
 get='' size='small' position='center' label_display='' title_attr='' icon_s
 elect='yes' icon='ue85b' font='entypo-fontello' color='custom' custom_bg='#
 b5123e' custom_font='#ffffff' av_uid='' id='' custom_class='' admin_preview
 _bg='']</p>
CATEGORIES:Recht interdisziplinär
LOCATION:Online
GEO:0.000000;0.000000
ORGANIZER;CN="ViFa-Recht":MAILTO:vifa-recht@sbb.spk-berlin.de
URL;VALUE=URI:https://events.intrecht.de/termine/termin/webinar-access-to-c
 limate-environmental-justice-from-a-decolonial-perspective/
END:VEVENT
BEGIN:VTIMEZONE
TZID:Europe/Berlin
BEGIN:STANDARD
TZOFFSETFROM:+0200
TZOFFSETTO:+0100
DTSTART:20231029T010000
TZNAME:CET
END:STANDARD
END:VTIMEZONE
END:VCALENDAR
